BEGIN:VCALENDAR
VERSION:2.0
PRODID:-//ChamberMaster//Event Calendar 2.0//EN
METHOD:PUBLISH
X-PUBLISHED-TTL:P3D
REFRESH-INTERVAL:P3D
CALSCALE:GREGORIAN
BEGIN:VEVENT
DTSTART:20161115T210000Z
DTEND:20161115T230000Z
X-MICROSOFT-CDO-ALLDAYEVENT:FALSE
SUMMARY:Waldorf School Open House
DESCRIPTION:WALDORF SCHOOL OF SARATOGA SPRINGS ALL SCHOOL OPEN HOUSE TUESDAY\, NOVEMBER 15\, 2016 4:00 PM   6:00 PM ALL LOCATIONS OPEN FOREST KINDERGARTEN ~ 45 KAYDEROSS AVENUE WEST EARLY CHILDHOOD CENTER ~ 212 LAKE AVENUE LOWER SCHOOL ~ 62 YORK AVENUE HIGH SCHOOL ~ 122 REGENT STREET Please join us meet our faculty\, tour our buildings\, and learn more about the value of a Waldorf education!
X-ALT-DESC;FMTTYPE=text/html:WALDORF SCHOOL OF SARATOGA SPRINGS ALL SCHOOL OPEN HOUSE TUESDAY\, NOVEMBER 15\, 2016 4:00 PM &ndash\; 6:00 PM ALL LOCATIONS OPEN FOREST KINDERGARTEN ~ 45 KAYDEROSS AVENUE WEST EARLY CHILDHOOD CENTER ~ 212 LAKE AVENUE LOWER SCHOOL ~ 62 YORK AVENUE HIGH SCHOOL ~ 122 REGENT STREET Please join us&hellip\;meet our faculty\, tour our buildings\, and learn more about the value of a Waldorf education!
LOCATION:62 York Avenue Saratoga Springs\, NY 12866
UID:e.2254.19678
SEQUENCE:3
DTSTAMP:20260420T200629Z
URL:https://chamber.saratoga.org/events/details/waldorf-school-open-house-19678
END:VEVENT

END:VCALENDAR
