BEGIN:VCALENDAR
VERSION:2.0
PRODID:-//ChamberMaster//Event Calendar 2.0//EN
METHOD:PUBLISH
X-PUBLISHED-TTL:P3D
REFRESH-INTERVAL:P3D
CALSCALE:GREGORIAN
BEGIN:VEVENT
DTSTART:20170121T150000Z
DTEND:20170121T180000Z
X-MICROSOFT-CDO-ALLDAYEVENT:FALSE
SUMMARY:Waldorf School of Saratoga Springs: Open House
DESCRIPTION:WALDORF SCHOOL OF SARATOGA SPRINGS\n\n \n\nALL SCHOOL OPEN HOUSE\n\n \n\n SATURDAY\, JANUARY 21\, 2017\n\n \n\n10:00 am   12:00 pm\n\n \n\n ALL LOCATIONS OPEN\n\n \n\nFOREST KINDERGARTEN ~ 45 KAYDEROSS AVENUE WEST\n\n \n\nEARLY CHILDHOOD CENTER ~ 212 LAKE AVENUE\n\n \n\nLOWER SCHOOL ~ 62 YORK AVENUE\n\n \n\nHIGH SCHOOL ~ 122 REGENT STREET\n\n \n\nPlease join us meet our faculty\, tour our buildings\, and \n\nlearn more about the value of a Waldorf education!
X-ALT-DESC;FMTTYPE=text/html:<div style="text-align: center\;"><strong><span style="font-family: garamond\;"><span style="font-size: 16pt\;">WALDORF SCHOOL OF SARATOGA SPRINGS</span></span></strong><br />\n&nbsp\;<br />\n<strong><span style="font-family: garamond\;"><span style="font-size: 16pt\;">ALL SCHOOL OPEN HOUSE</span></span></strong><br />\n&nbsp\;<br />\n&nbsp\;<strong><span style="font-family: garamond\;"><span style="font-size: 16pt\;">SATURDAY\, JANUARY 21\, 2017</span></span></strong><br />\n&nbsp\;<br />\n<strong><span style="font-family: garamond\;"><span style="font-size: 16pt\;">10:00 am &ndash\; 12:00 pm</span></span></strong><br />\n&nbsp\;<br />\n&nbsp\;<strong><u><span style="font-family: garamond\;"><span style="font-size: 16pt\;">ALL LOCATIONS OPEN</span></span></u></strong><br />\n&nbsp\;<br />\n<strong><span style="font-family: garamond\;">FOREST KINDERGARTEN ~ 45 KAYDEROSS AVENUE WEST</span></strong><br />\n&nbsp\;<br />\n<strong><span style="font-family: garamond\;">EARLY CHILDHOOD CENTER ~ 212 LAKE AVENUE</span></strong><br />\n&nbsp\;<br />\n<strong><span style="font-family: garamond\;">LOWER SCHOOL ~ 62 YORK AVENUE</span></strong><br />\n&nbsp\;<br />\n<strong><span style="font-family: garamond\;">HIGH SCHOOL ~ 122 REGENT STREET</span></strong><br />\n&nbsp\;<br />\n<strong><span style="font-family: garamond\;">Please join us&hellip\;meet our faculty\, tour our buildings\, and </span></strong><br />\n<strong><span style="font-family: garamond\;">learn more about the value of a Waldorf education!</span></strong></div>\n
LOCATION:FOREST KINDERGARTEN ~ 45 KAYDEROSS AVENUE WEST EARLY CHILDHOOD CENTER ~ 212 LAKE AVENUE LOWER SCHOOL ~ 62 YORK AVENUE HIGH SCHOOL ~ 122 REGENT STREET
UID:e.2254.21856
SEQUENCE:3
DTSTAMP:20260420T152353Z
URL:https://chamber.saratoga.org/events/details/waldorf-school-of-saratoga-springs-open-house-21856
END:VEVENT

END:VCALENDAR
