BEGIN:VCALENDAR
VERSION:2.0
PRODID:-//ChamberMaster//Event Calendar 2.0//EN
METHOD:PUBLISH
X-PUBLISHED-TTL:P3D
REFRESH-INTERVAL:P3D
CALSCALE:GREGORIAN
BEGIN:VEVENT
DTSTART:20161015T150000Z
DTEND:20161015T190000Z
X-MICROSOFT-CDO-ALLDAYEVENT:FALSE
SUMMARY:Waldorf School Autumn Festival and Open House
DESCRIPTION:Waldorf School of Saratoga Springs Autumn Festival & Open House Saturday\, October 15 62 York Avenue Saratoga Springs\, NY 12866 11:00 AM  3:00 PM RAIN OR SHINE Puppet shows\, face painting\, pumpkin creations\, felting\, sheep shearing\, caf  and bake sale\, brick oven pizza\, jump rope making\, corn husk dolls\, raffle and so much more!! For more information\, contact www.waldorfsaratoga.org
X-ALT-DESC;FMTTYPE=text/html:Waldorf School of Saratoga Springs Autumn Festival &amp\; Open House Saturday\, October 15 62 York Avenue Saratoga Springs\, NY 12866 11:00 AM &ndash\;3:00 PM RAIN OR SHINE Puppet shows\, face painting\, pumpkin creations\, felting\, sheep shearing\, caf&eacute\; and bake sale\, brick oven pizza\, jump rope making\, corn husk dolls\, raffle and so much more!! For more information\, contact www.waldorfsaratoga.org
LOCATION:62 York Avenue Saratoga Springs\, NY 12866
UID:e.2254.19677
SEQUENCE:3
DTSTAMP:20260420T232312Z
URL:https://chamber.saratoga.org/events/details/waldorf-school-autumn-festival-and-open-house-19677
END:VEVENT

END:VCALENDAR
