BEGIN:VCALENDAR
VERSION:2.0
PRODID:-//ChamberMaster//Event Calendar 2.0//EN
METHOD:PUBLISH
X-PUBLISHED-TTL:P3D
REFRESH-INTERVAL:P3D
CALSCALE:GREGORIAN
BEGIN:VEVENT
DTSTART:20151007T140000Z
DTEND:20151018T200000Z
X-MICROSOFT-CDO-ALLDAYEVENT:FALSE
SUMMARY:Wait Until Dark
DESCRIPTION:The Theatre Institute at Sage announces their production of Frederick Knotts play Wait Until Dark. Popularized by the 1967 film\, starring Audrey Hepburn\, this suspenseful game of cat and mouse lends itself to the intimacy of theatre\, immersing audiences in a dingy 1960's Greenwich Village apartment. Desperate to reclaim a mysterious doll stuffed with illegal drugs\, a con man lays a trap to ensnare a blind woman. With the help of his criminal sidekicks and a few clever disguises\, he spins a tale to fool the innocent and unsuspecting woman. But when the doll can't be found\, the situation spirals out of control. Wait Until Dark proves that what you can't see can most definitely hurt you. The show will be performed at the Schacht Fine Arts Center Theater on the Russell Sage Campus in Troy\, NY. Tickets may be purchased online\, over the phone\, or at the door. Recommended for ages 12 and up.
X-ALT-DESC;FMTTYPE=text/html:The Theatre Institute at Sage announces their production of Frederick Knotts play Wait Until Dark. Popularized by the 1967 film\, starring Audrey Hepburn\, this suspenseful game of cat and mouse lends itself to the intimacy of theatre\, immersing audiences in a dingy 1960&#39\;s Greenwich Village apartment. Desperate to reclaim a mysterious doll stuffed with illegal drugs\, a con man lays a trap to ensnare a blind woman. With the help of his criminal sidekicks and a few clever disguises\, he spins a tale to fool the innocent and unsuspecting woman. But when the doll can&#39\;t be found\, the situation spirals out of control. Wait Until Dark proves that what you can&#39\;t see can most definitely hurt you. The show will be performed at the Schacht Fine Arts Center Theater on the Russell Sage Campus in Troy\, NY. Tickets may be purchased online\, over the phone\, or at the door. Recommended for ages 12 and up.
LOCATION:Schacht Fine Arts Center Theater 5 Division St\, Troy\, NY 12180
UID:e.2254.12529
SEQUENCE:3
DTSTAMP:20260422T144951Z
URL:https://chamber.saratoga.org/events/details/wait-until-dark-10-07-2015-12529
END:VEVENT

END:VCALENDAR
