BEGIN:VCALENDAR
VERSION:2.0
PRODID:-//ChamberMaster//Event Calendar 2.0//EN
METHOD:PUBLISH
X-PUBLISHED-TTL:P3D
REFRESH-INTERVAL:P3D
CALSCALE:GREGORIAN
BEGIN:VEVENT
DTSTART:20161026T230000Z
DTEND:20161027T001500Z
X-MICROSOFT-CDO-ALLDAYEVENT:FALSE
SUMMARY:Volunteer Meeting
DESCRIPTION:There will be a volunteer meeting to recap recent activities and discuss new opportunities for community involvement. We will go over programs and events coming up at the Preserve & Park. Attendees both new and old are welcome! Refreshments will be served beginning at 6:45 PM.
X-ALT-DESC;FMTTYPE=text/html:There will be a volunteer meeting to recap recent activities and discuss new opportunities for community involvement. We will go over programs and events coming up at the Preserve &amp\; Park. Attendees both new and old are welcome! Refreshments will be served beginning at 6:45 PM.
LOCATION:Wilton Wildlife Preserve and Park Office at 80 Scout Road\, Gansevoort\, NY 12831
UID:e.2254.20772
SEQUENCE:3
DTSTAMP:20260420T214332Z
URL:https://chamber.saratoga.org/events/details/volunteer-meeting-20772
END:VEVENT

END:VCALENDAR
