BEGIN:VCALENDAR
VERSION:2.0
PRODID:-//ChamberMaster//Event Calendar 2.0//EN
METHOD:PUBLISH
X-PUBLISHED-TTL:P3D
REFRESH-INTERVAL:P3D
CALSCALE:GREGORIAN
BEGIN:VEVENT
DTSTART:20150413T133000Z
DTEND:20150413T143000Z
X-MICROSOFT-CDO-ALLDAYEVENT:FALSE
SUMMARY:Volunteer Match Resource Training
DESCRIPTION:Hands on training of the new resource created by the Leadership Saratoga Alumni Association to better link alums and nonprofit organizations. Think MATCH.COM for alums and nonprofits.\n\nWhether you are a staff member or board member\, if you are involved with volunteers\, come and learn about this powerful new resource. Several laptops are available in the classroom or bring your own laptop\, tablet or phone to use. The site works on all of these!\n\n \n\nIf you aren't able to have a representative at one of these trainings\, please contact Kathleen Fyfe to make alternative arrangements.
X-ALT-DESC;FMTTYPE=text/html:Hands on training of the new resource created by the Leadership Saratoga Alumni Association to better link alums and nonprofit organizations. Think MATCH.COM for alums and nonprofits.<br />\nWhether you are a staff member or board member\, if you are involved with volunteers\, come and learn about this powerful new resource. Several laptops are available in the classroom or bring your own laptop\, tablet or phone to use. The site works on all of these!<br />\n&nbsp\;<br />\nIf you aren&rsquo\;t able to have a representative at one of these trainings\, please contact <a href="mailto:kfyfe@saratoga.org">Kathleen Fyfe</a> to make alternative arrangements.
LOCATION:The Masie Center 95 Washington Street Saratoga Springs\, NY 12866
UID:e.2254.7704
SEQUENCE:3
DTSTAMP:20260423T214009Z
URL:https://chamber.saratoga.org/events/details/volunteer-match-resource-training-04-13-2015-7704
END:VEVENT

END:VCALENDAR
