BEGIN:VCALENDAR
VERSION:2.0
PRODID:-//ChamberMaster//Event Calendar 2.0//EN
METHOD:PUBLISH
X-PUBLISHED-TTL:P3D
REFRESH-INTERVAL:P3D
CALSCALE:GREGORIAN
BEGIN:VEVENT
DTSTART:20140805T193000Z
DTEND:20140805T220000Z
X-MICROSOFT-CDO-ALLDAYEVENT:FALSE
SUMMARY:Visión -- ?A look at life behind the scenes\,? - 08/05/2014
DESCRIPTION:An ongoing black and white photography project initiated by EOC.\n\n \n\nThis festive multicultural event will feature drinks\, hors d'oeuvres\, music by Garland Nelson and the juried selection of photographs that comprise this year's Visi n exhibition. \n\nThe Latino Community Advocacy Program (LCAP)\, a program of the Saratoga County EOC\, addresses the special needs of the Spanish-speaking immigrant population in Saratoga County. Their activities also promote cultural understanding and recognize the positive contributions of immigrants and long tradition of immigration in our communities. The Saratoga County EOC's bilingual staff provides assistance by facilitating communication and access to health\, legal\, and educational services.\n\nTo purchase tickets\, the public is welcome to register via the internet at\n\nhttp://www.brownpapertickets.com/event/733771 or via the phone at 518-288-3206. For more information about the exhibit and about LCAP\, please contact Catherine Eckert.
X-ALT-DESC;FMTTYPE=text/html:<p>An ongoing black and white photography project initiated by EOC.</p>\n\n<p align="left">&nbsp\;</p>\n\n<p><span style="font-size: small\;">This festive multicultural event will feature drinks\, hors d&rsquo\;oeuvres\, music by Garland Nelson and the juried selection of photographs that comprise this year&rsquo\;s Visi&oacute\;n exhibition. </span></p>\n\n<p><span style="font-size: small\;">The Latino Community Advocacy Program (LCAP)\, a program of the Saratoga County EOC\, addresses the special needs of the Spanish-speaking immigrant population in Saratoga County. Their activities also promote cultural understanding and recognize the positive contributions of immigrants and long tradition of immigration in our communities. The Saratoga County EOC&rsquo\;s bilingual staff provides assistance by facilitating communication and access to health\, legal\, and educational services.</span></p>\n\n<p><span style="font-size: small\;">To purchase tickets\, the public is welcome to register via the internet at</span></p>\n\n<p><span style="font-size: small\;">http://www.brownpapertickets.com/event/733771 or via the phone at 518-288-3206. <span>For more information about the exhibit and about LCAP\, please contact Catherine Eckert. </span></span></p>\n
LOCATION:The Rail Pavilion at the Saratoga Race Course
UID:e.2254.3353
SEQUENCE:3
DTSTAMP:20260424T140448Z
URL:https://chamber.saratoga.org/events/details/visi&#243;n-a-look-at-life-behind-the-scenes-08-05-2014-08-05-2014-3353
END:VEVENT

END:VCALENDAR
