BEGIN:VCALENDAR
VERSION:2.0
PRODID:-//ChamberMaster//Event Calendar 2.0//EN
METHOD:PUBLISH
X-PUBLISHED-TTL:P3D
REFRESH-INTERVAL:P3D
CALSCALE:GREGORIAN
BEGIN:VEVENT
DTSTART;VALUE=DATE:20161024
DTEND;VALUE=DATE:20161026
TRANSP:TRANSPARENT
X-MICROSOFT-CDO-ALLDAYEVENT:TRUE
SUMMARY:VETCON: Veterans in Economic Transition Conference
DESCRIPTION:This conference is the first of its kind in the Capital Region to help veterans as they make transitions into their future professional careers. It is an unprecedented collection of public and private businesses\, non-profit and for-profit organizations\, and government agencies gathering together for a worthy initiative.
X-ALT-DESC;FMTTYPE=text/html:This conference is the first of its kind in the Capital Region to help veterans as they make transitions into their future professional careers. It is an unprecedented collection of public and private businesses\, non-profit and for-profit organizations\, and government agencies gathering together for a worthy initiative.
LOCATION:The Desmond Hotel 600 Albany Shaker Road Albany\, NY 12211
UID:e.2254.20718
SEQUENCE:3
DTSTAMP:20260420T214609Z
URL:https://chamber.saratoga.org/events/details/vetcon-veterans-in-economic-transition-conference-20718
END:VEVENT

END:VCALENDAR
