BEGIN:VCALENDAR
VERSION:2.0
PRODID:-//ChamberMaster//Event Calendar 2.0//EN
METHOD:PUBLISH
X-PUBLISHED-TTL:P3D
REFRESH-INTERVAL:P3D
CALSCALE:GREGORIAN
BEGIN:VEVENT
DTSTART:20151106T220000Z
DTEND:20151107T003000Z
X-MICROSOFT-CDO-ALLDAYEVENT:FALSE
SUMMARY:Vaudeville Circus at the Tang Museum
DESCRIPTION:Step on up\, folks\, to Arts Fest Fridays.   Vaudeville Circus at the Tang Museum\, featuring tumblers\, tricksters\, tappers and much\, much more! Your evening's entertainment includes dancing by Saratoga Jazz Tap\, performances by the Skidmore Circus Club and Waldorf School Circus Club\, violin by Trans-Siberian Orchestra's Mike Campese\, and our headline act: the traveling one-man-band extravaganza known as The Suitcase Junket\, as well as food from the Circus Cafe. All this while performers mingle with visitors as they tour the Tang's Affinity Atlas\, and Mark Allen visual art exhibits. This FREE\, family-friendly\, early-evening event takes place on Friday\, November 6\, 5-7:30pm at the Tang Teaching Museum at Skidmore College.
X-ALT-DESC;FMTTYPE=text/html:Step on up\, folks\, to Arts Fest Fridays.&nbsp\; &nbsp\;Vaudeville Circus at the Tang Museum\, featuring tumblers\, tricksters\, tappers and much\, much more! Your evening&#39\;s entertainment includes dancing by Saratoga Jazz Tap\, performances by the Skidmore Circus Club and Waldorf School Circus Club\, violin by Trans-Siberian Orchestra&#39\;s Mike Campese\, and our headline act: the traveling one-man-band extravaganza known as The Suitcase Junket\, as well as food from the Circus Cafe. All this while performers mingle with visitors as they tour the Tang&#39\;s Affinity Atlas\, and Mark Allen visual art exhibits. This FREE\, family-friendly\, early-evening event takes place on Friday\, November 6\, 5-7:30pm at the Tang Teaching Museum at Skidmore College.
LOCATION:Tang Museum at Skidmore College 815 N. Broadway Saratoga Springs\, NY\, 12866
UID:e.2254.12751
SEQUENCE:3
DTSTAMP:20260422T130513Z
URL:https://chamber.saratoga.org/events/details/vaudeville-circus-at-the-tang-museum-11-06-2015-12751
END:VEVENT

END:VCALENDAR
