BEGIN:VCALENDAR
VERSION:2.0
PRODID:-//ChamberMaster//Event Calendar 2.0//EN
METHOD:PUBLISH
X-PUBLISHED-TTL:P3D
REFRESH-INTERVAL:P3D
CALSCALE:GREGORIAN
BEGIN:VEVENT
DTSTART:20170214T210000Z
DTEND:20170215T023000Z
X-MICROSOFT-CDO-ALLDAYEVENT:FALSE
SUMMARY:Valentine's Day 4 Course Dinner
DESCRIPTION:Join us at Campagna Restaurant on Tuesday February 14th for Valentine's Day. Chef Derek Adams has been hard at work creating a very Special Aphrodisiac Menu for you and your sweetheart. Enjoy choices from 4 stunning courses\, while you're serenaded by the beautiful sounds of Amy-Lin Slezak Nelson\, who will be performing romantic love songs from 6 until 8:30 PM. And don't forget to stop by our bar and try one of our Signature Lover's Cocktails\, you won't want to miss them! This exciting menu is available from 4 until 9:30 PM starting on Tuesday February 14th. If you are unable to dine with us on Tuesday\, you can still enjoy our Valentine's Day menu! We'll be offering this special menu through Friday February 17th.
X-ALT-DESC;FMTTYPE=text/html:Join us at Campagna Restaurant on Tuesday February 14th for Valentine&rsquo\;s Day. Chef Derek Adams has been hard at work creating a very Special Aphrodisiac Menu for you and your sweetheart. Enjoy choices from 4 stunning courses\, while you&rsquo\;re serenaded by the beautiful sounds of Amy-Lin Slezak Nelson\, who will be performing romantic love songs from 6 until 8:30 PM. And don&rsquo\;t forget to stop by our bar and try one of our Signature Lover&rsquo\;s Cocktails\, you won&rsquo\;t want to miss them! This exciting menu is available from 4 until 9:30 PM starting on Tuesday February 14th. If you are unable to dine with us on Tuesday\, you can still enjoy our Valentine&rsquo\;s Day menu! We&rsquo\;ll be offering this special menu through Friday February 17th.
LOCATION:Campagna Restaurant 2452 State Route 9 Malta NY 12020
UID:e.2254.22434
SEQUENCE:3
DTSTAMP:20260420T101126Z
URL:https://chamber.saratoga.org/events/details/valentine-s-day-4-course-dinner-22434
END:VEVENT

END:VCALENDAR
