BEGIN:VCALENDAR
VERSION:2.0
PRODID:-//ChamberMaster//Event Calendar 2.0//EN
METHOD:PUBLISH
X-PUBLISHED-TTL:P3D
REFRESH-INTERVAL:P3D
CALSCALE:GREGORIAN
BEGIN:VEVENT
DTSTART:20160214T170000Z
DTEND:20160214T220000Z
X-MICROSOFT-CDO-ALLDAYEVENT:FALSE
SUMMARY:Valentine's Day!
DESCRIPTION:Come spend your Valentine's Day with us at Creative Sparks. BOGO studio fee free all day! Bring your special someone and make a little something for one another. It will be a Valentine's Day you'll never forget! Call ahead to reserve your paintbrush or walk in at your convenience.
X-ALT-DESC;FMTTYPE=text/html:<font color="#000000" face="arial\, sans-serif"><span style="font-size:12px\; line-height:19.2px">Come spend your Valentine&#39\;s Day with us at Creative Sparks. <strong>BOGO studio fee free</strong> all day! Bring your special someone and make a little something for one another. It will be a Valentine&#39\;s Day you&#39\;ll never forget! Call ahead to reserve your paintbrush or walk in at your convenience.</span></font>
LOCATION:Creative Sparks
UID:e.2254.14863
SEQUENCE:3
DTSTAMP:20260422T022308Z
URL:https://chamber.saratoga.org/events/details/valentine-s-day-02-14-2016-14863
END:VEVENT

END:VCALENDAR
