BEGIN:VCALENDAR
VERSION:2.0
PRODID:-//ChamberMaster//Event Calendar 2.0//EN
METHOD:PUBLISH
X-PUBLISHED-TTL:P3D
REFRESH-INTERVAL:P3D
CALSCALE:GREGORIAN
BEGIN:VEVENT
DTSTART:20160519T220000Z
DTEND:20160520T000000Z
X-MICROSOFT-CDO-ALLDAYEVENT:FALSE
SUMMARY:Using the Digital Camera - How to take Capture Great Images
DESCRIPTION:Are you still using your expensive camera in fully automatic mode? Do you have a friend who is?\n\nExposure is offering "Using the Digital Camera - How to take Capture Great Images"\, a six week class beginning on April 21.\n\nThis comprehensive six-week course will provide the beginner to advanced intermediate photographer a firm foundation in digital photography. In addition to the weekly two-hour class\, there will be weekly homework assignments covering additional reading\, photographic assignments\, and hands-on activities which\, when combined with in-class exercises\, and weekly critiques of your work\, will develop practical skills.\n\n\nThe course will cover:\n\n- The workflow of a fine art digital photographer\;\n\n- Camera\, Lenses and accessories   the tools of the trade\;\n\n- Light\, color\, white balance\, and color management\;\n\n- Creative exposure and focus yielding a good base image\;\n\n- Lighting and backdrops to enhance your subject\;\n\nBook now at Exposure Saratoga
X-ALT-DESC;FMTTYPE=text/html:<p>Are you still using your expensive camera in fully automatic mode? Do you have a friend who is?</p>\n\n<p>Exposure is offering &quot\;Using the Digital Camera - How to take Capture Great Images&quot\;\, a six week class beginning on April 21.</p>\n\n<p>This comprehensive six-week course will provide the beginner to advanced intermediate photographer a firm foundation in digital photography. In addition to the weekly two-hour class\, there will be weekly homework assignments covering additional reading\, photographic assignments\, and hands-on activities which\, when combined with in-class exercises\, and weekly critiques of your work\, will develop practical skills.</p>\n\n<div>\n<p>The course will cover:<br />\n- The workflow of a fine art digital photographer\;<br />\n- Camera\, Lenses and accessories &ndash\; the tools of the trade\;<br />\n- Light\, color\, white balance\, and color management\;<br />\n- Creative exposure and focus yielding a good base image\;<br />\n- Lighting and backdrops to enhance your subject\;</p>\n\n<p>Book now at <a href="http://bookeo.com/exposuresaratoga?type=214TKW7LL14A5F381E06">Exposure Saratoga</a></p>\n</div>\n
LOCATION:Exposure Saratoga 67 Davidson Dr\, Saratoga Springs\, NY 12866
UID:e.2254.16087
SEQUENCE:3
DTSTAMP:20260421T210221Z
URL:https://chamber.saratoga.org/events/details/using-the-digital-camera-how-to-take-capture-great-images-05-19-2016-16087
END:VEVENT

END:VCALENDAR
