BEGIN:VCALENDAR
VERSION:2.0
PRODID:-//ChamberMaster//Event Calendar 2.0//EN
METHOD:PUBLISH
X-PUBLISHED-TTL:P3D
REFRESH-INTERVAL:P3D
CALSCALE:GREGORIAN
BEGIN:VEVENT
DTSTART:20140802T120000Z
DTEND:20140802T150000Z
X-MICROSOFT-CDO-ALLDAYEVENT:FALSE
SUMMARY:Upper Hudson Paddle - 08/02/2014
DESCRIPTION:Guided paddle of the Upper Hudson RiverParticipants will join staff and volunteer leader\, Lorraine Skibo\, on a leisurely 5.5 mile paddle on a beautiful flat-water reach of the River. This section is dammed at both ends and boasts an undeveloped\, forested shoreline.\nThis is an easy paddle\, for canoe or kayak. Please bring a PFD\, appropriate paddles\, sunscreen\, bug spray\, bag lunch and water.Space is limited to 10 people. Please RSVP to devin@saratogaplan.org
X-ALT-DESC;FMTTYPE=text/html:<p>Guided paddle of the Upper Hudson River</p><p><p style="margin: 0.0px 0.0px 0.0px 0.0px\; font: 14.0px Calibri"><span style="font: 14.1px Calibri">Participants will join staff and </span>volunteer leader\, Lorraine Skibo\, on a leisurely 5.5 mile paddle on a beautiful flat-water reach of the River. This section is dammed at both ends and boasts an undeveloped\, forested shoreline.</p>\n<p style="margin: 0.0px 0.0px 0.0px 0.0px\; font: 14.0px Calibri">This is an easy paddle\, for canoe or kayak. Please bring a PFD\, appropriate paddles\, sunscreen\, bug spray\, bag lunch and water.</p><p style="margin: 0.0px 0.0px 0.0px 0.0px\; font: 14.0px Calibri">Space is limited to 10 people. Please RSVP to devin@saratogaplan.org</p></p>
LOCATION:Sherman Island Boat Launch
UID:e.2254.3466
SEQUENCE:3
DTSTAMP:20260424T175752Z
URL:https://chamber.saratoga.org/events/details/upper-hudson-paddle-08-02-2014-08-02-2014-3466
END:VEVENT

END:VCALENDAR
