BEGIN:VCALENDAR
VERSION:2.0
PRODID:-//ChamberMaster//Event Calendar 2.0//EN
METHOD:PUBLISH
X-PUBLISHED-TTL:P3D
REFRESH-INTERVAL:P3D
CALSCALE:GREGORIAN
BEGIN:VEVENT
DTSTART:20150626T200000Z
DTEND:20150626T210000Z
X-MICROSOFT-CDO-ALLDAYEVENT:FALSE
SUMMARY:Unveling & Rededication of the Spirit of Life & Spencer Trask Memorial
DESCRIPTION:June 26\, 2015 will mark the centennial of the Spencer Trask Memorial and in preparation\, the Saratoga Springs Preservation Foundation (SSPF) has partnered with the City of Saratoga Springs to restore this nationally and locally significant memorial. For more information go to or click: http://www.spiritofliferestoration.org/restoration-project
X-ALT-DESC;FMTTYPE=text/html:June 26\, 2015 will mark the centennial of the Spencer Trask Memorial and in preparation\, the Saratoga Springs Preservation Foundation (SSPF) has partnered with the City of Saratoga Springs to restore this nationally and locally significant memorial. For more information go to or click: http://www.spiritofliferestoration.org/restoration-project
LOCATION:Congress Park\, Saratoga Springs\, NY
UID:e.2254.6196
SEQUENCE:3
DTSTAMP:20260423T074205Z
URL:https://chamber.saratoga.org/events/details/unveling-rededication-of-the-spirit-of-life-spencer-trask-memorial-06-26-2015-6196
END:VEVENT

END:VCALENDAR
