BEGIN:VCALENDAR
VERSION:2.0
PRODID:-//ChamberMaster//Event Calendar 2.0//EN
METHOD:PUBLISH
X-PUBLISHED-TTL:P3D
REFRESH-INTERVAL:P3D
CALSCALE:GREGORIAN
BEGIN:VEVENT
DTSTART:20150618T220000Z
DTEND:20150619T010000Z
X-MICROSOFT-CDO-ALLDAYEVENT:FALSE
SUMMARY:Uncorking the Cure. . . Tapping Into Hope
DESCRIPTION:Wine\, Beer\, & Spirits Tasting\, Food Pairing and Auction Special this year\, couture fashions will be on display and auctioned off during the evening's live auction. Last year's event was sold out\, secure your sponsorships today!!
X-ALT-DESC;FMTTYPE=text/html:Wine\, Beer\, &amp\; Spirits Tasting\, Food Pairing and Auction Special this year\, couture fashions will be on display and auctioned off during the evening&#39\;s live auction. Last year&#39\;s event was sold out\, secure your sponsorships today!!
LOCATION:Saratoga National Golf Club
UID:e.2254.7592
SEQUENCE:3
DTSTAMP:20260423T072221Z
URL:https://chamber.saratoga.org/events/details/uncorking-the-cure-tapping-into-hope-06-18-2015-7592
END:VEVENT

END:VCALENDAR
