BEGIN:VCALENDAR
VERSION:2.0
PRODID:-//ChamberMaster//Event Calendar 2.0//EN
METHOD:PUBLISH
X-PUBLISHED-TTL:P3D
REFRESH-INTERVAL:P3D
CALSCALE:GREGORIAN
BEGIN:VEVENT
DTSTART:20150613T130000Z
DTEND:20150613T213000Z
X-MICROSOFT-CDO-ALLDAYEVENT:FALSE
SUMMARY:Ultimate Field Day
DESCRIPTION:A series of "somewhat" challenging traditional and non-traditional field day activities inside Joseph L Bruno Stadium. Six fun sports activities: (Quarterback Challenge\, Tug - A -War\, Cornhole Express\, Soccer Shootout\, Obstacle Corse Relay\, & Basketball Shots from the Spots. Great food\, music\, event T-shirts\, and medals.
X-ALT-DESC;FMTTYPE=text/html:A series of &quot\;somewhat&quot\; challenging traditional and non-traditional field day activities inside Joseph L Bruno Stadium. Six fun sports activities: (Quarterback Challenge\, Tug - A -War\, Cornhole Express\, Soccer Shootout\, Obstacle Corse Relay\, &amp\; Basketball Shots from the Spots. Great food\, music\, event T-shirts\, and medals.
LOCATION:Joseph L. Bruno Stadium\, 80 Vandenburgh Avenue Troy\, New York 12180
UID:e.2254.8352
SEQUENCE:3
DTSTAMP:20260423T072035Z
URL:https://chamber.saratoga.org/events/details/ultimate-field-day-06-13-2015-8352
END:VEVENT

END:VCALENDAR
