BEGIN:VCALENDAR
VERSION:2.0
PRODID:-//ChamberMaster//Event Calendar 2.0//EN
METHOD:PUBLISH
X-PUBLISHED-TTL:P3D
REFRESH-INTERVAL:P3D
CALSCALE:GREGORIAN
BEGIN:VEVENT
DTSTART:20140923T200000Z
DTEND:20140923T210000Z
X-MICROSOFT-CDO-ALLDAYEVENT:FALSE
SUMMARY:UAlbany Weekend MBA Information Session - 09/23/2014
DESCRIPTION:University at Albany Weekend MBA ProgramCome attend our information session\, and learn how the Weekend MBA Program can power up your career. Speak firsthand with the program director\, students and alumni\, tour the Executive Education Center\, discuss any specific questions or concerns you may have about the program\, and find out if the program is the right fit for you!
X-ALT-DESC;FMTTYPE=text/html:<p>University at Albany Weekend MBA Program</p><p><span style="font-size: 9pt\; line-height: 115%\; font-family: Arial\, sans-serif\;">Come attend our information session\, and learn how the Weekend MBA Program can power up your career. Speak firsthand with the program director\, students and alumni\, tour the Executive Education Center\, discuss any specific questions or concerns you may have about the program\, and find out if the program is the right fit for you!</span></p>
LOCATION:Albany-Colonie Regional Chamber
UID:e.2254.3550
SEQUENCE:3
DTSTAMP:20260424T110845Z
URL:https://chamber.saratoga.org/events/details/ualbany-weekend-mba-information-session-09-23-2014-09-23-2014-3550
END:VEVENT

END:VCALENDAR
