BEGIN:VCALENDAR
VERSION:2.0
PRODID:-//ChamberMaster//Event Calendar 2.0//EN
METHOD:PUBLISH
X-PUBLISHED-TTL:P3D
REFRESH-INTERVAL:P3D
CALSCALE:GREGORIAN
BEGIN:VEVENT
DTSTART:20161015T233000Z
DTEND:20161016T013000Z
X-MICROSOFT-CDO-ALLDAYEVENT:FALSE
SUMMARY:U of R YellowJackets A Cappella Benefit Concert
DESCRIPTION:UPH is happy to present the wonderfully popular University of Rochester men's a cappella group\, The YellowJackets. The vocal group will be performing two shows to benefit UPH - Saturday evening\, October 15 at 7:30PM and again on Sunday afternoon\, October 16 at 3:00PM. Tickets will go on sale soon. General admission will be $20\; students and seniors $10. All proceeds from the event will benefit the ongoing restoration and development of UPH.
X-ALT-DESC;FMTTYPE=text/html:UPH is happy to present the wonderfully popular University of Rochester men&#39\;s a cappella group\, The YellowJackets. The vocal group will be performing two shows to benefit UPH - Saturday evening\, October 15 at 7:30PM and again on Sunday afternoon\, October 16 at 3:00PM. Tickets will go on sale soon. General admission will be $20\; students and seniors $10. All proceeds from the event will benefit the ongoing restoration and development of UPH.
LOCATION:Universal Preservation Hall 25 Washington Street Saratoga Springs\, NY 12866
UID:e.2254.19506
SEQUENCE:3
DTSTAMP:20260420T232257Z
URL:https://chamber.saratoga.org/events/details/u-of-r-yellowjackets-a-cappella-benefit-concert-19506
END:VEVENT

END:VCALENDAR
