BEGIN:VCALENDAR
VERSION:2.0
PRODID:-//ChamberMaster//Event Calendar 2.0//EN
METHOD:PUBLISH
X-PUBLISHED-TTL:P3D
REFRESH-INTERVAL:P3D
CALSCALE:GREGORIAN
BEGIN:VEVENT
DTSTART:20151030T213000Z
DTEND:20151031T000000Z
X-MICROSOFT-CDO-ALLDAYEVENT:FALSE
SUMMARY:Twin Rivers Council Holiday Auction
DESCRIPTION:A NASCAR adventure package\, a Kennedy Space Center adventure\, golf outings\, and gift cards for everyone on your holiday list. Come bid on gifts for your family\, friends\, and yourself. Buy your tickets now for the Twin Rivers Council's Holiday Auction taking place on November 17th at the Hilton Albany. This will be an exciting night of bidding\, winning and fun.  There will be a live and silent auction as well as hors d' oeuvres and cash bar.  Admission is $40 please register at www.trcscouting.org/HolidayAuction.  Funds raised will go to support Scouting programming\, training\, and service from the Capital Region through the Adirondacks
X-ALT-DESC;FMTTYPE=text/html:<span style="color: rgb(20\, 24\, 35)\;"><span style="font-family: times new roman\,serif\;">A NASCAR adventure package\, a Kennedy Space Center adventure\, golf outings\, and gift cards for everyone on your holiday list. Come bid on gifts for your family\, friends\, and yourself. Buy your tickets now for the Twin Rivers Council&rsquo\;s Holiday Auction taking place on November 17th at the Hilton Albany.</span></span><span style="font-family: times new roman\,serif\;"> This will be an exciting night of bidding\, winning and fun. &nbsp\;There will be a live and silent auction as well as hors d&rsquo\; oeuvres and cash bar.&nbsp\; Admission is $40 please register at </span><a href="http://www.trcscouting.org/HolidayAuction"><span style="font-family: times new roman\,serif\;">www.trcscouting.org/HolidayAuction</span></a><span style="font-family: times new roman\,serif\;">.&nbsp\; Funds raised will go to support Scouting programming\, training\, and service from the Capital Region through the Adirondacks</span>
LOCATION:Hilton Albany 40 Lodge Street\, Albany\, NY
UID:e.2254.12792
SEQUENCE:3
DTSTAMP:20260422T130724Z
URL:https://chamber.saratoga.org/events/details/twin-rivers-council-holiday-auction-10-30-2015-12792
END:VEVENT

END:VCALENDAR
