BEGIN:VCALENDAR
VERSION:2.0
PRODID:-//ChamberMaster//Event Calendar 2.0//EN
METHOD:PUBLISH
X-PUBLISHED-TTL:P3D
REFRESH-INTERVAL:P3D
CALSCALE:GREGORIAN
BEGIN:VEVENT
DTSTART:20160928T220000Z
DTEND:20160929T010000Z
X-MICROSOFT-CDO-ALLDAYEVENT:FALSE
SUMMARY:Twin Rivers Council\, Distinguished Citizen Award Dinner honoring Jack Rifenburg
DESCRIPTION:Twin Rivers Council\, Boy Scouts of America will be honoring Mr. Jack Rifenburg with the 2016 Distinguised Citizen Award at a dinner in his honor on September 28th at The Century House in Latham. Also\, 2016 marks the Twin Rivers Council 25th Anniversary. There will be special presentations throughout the night celebrating 25 of service to our youth and community.
X-ALT-DESC;FMTTYPE=text/html:<span style="font-size:14px"><span style="font-family:times new roman">Twin Rivers Council\, Boy Scouts of America will be honoring&nbsp\;<strong><em>Mr. Jack Rifenburg</em></strong> with the 2016 Distinguised Citizen Award at a dinner in his honor on September 28th at The Century House in Latham. Also\, 2016 marks the Twin Rivers Council 25th Anniversary. There will be special presentations throughout the night celebrating 25 of service to our youth and community.&nbsp\;</span></span>
LOCATION:The Century House 997 New Loudon Rd Latham\, NY 12110
UID:e.2254.16949
SEQUENCE:3
DTSTAMP:20260421T004253Z
URL:https://chamber.saratoga.org/events/details/twin-rivers-council-distinguished-citizen-award-dinner-honoring-jack-rifenburg-09-28-2016-16949
END:VEVENT

END:VCALENDAR
