BEGIN:VCALENDAR
VERSION:2.0
PRODID:-//ChamberMaster//Event Calendar 2.0//EN
METHOD:PUBLISH
X-PUBLISHED-TTL:P3D
REFRESH-INTERVAL:P3D
CALSCALE:GREGORIAN
BEGIN:VEVENT
DTSTART:20150606T123000Z
DTEND:20150606T143000Z
X-MICROSOFT-CDO-ALLDAYEVENT:FALSE
SUMMARY:TUFF eNUFF 5K Obstacle Challenge
DESCRIPTION:The 4th Annual TUFF eNUFF 5k Obstacle Course Challenge benefits The Prevention Council of Saratoga County. It is a mud-filled course with obstacles for participants to crawl under\, hurdle over\, wade through\, and work together toward success!  A fun\, muddy adventure for both families and athletes- Mirrors the Prevention Council's mission of helping youth navigate life's challenges.  Two courses \; One for kids\; One for teens/adults Course is built by BOCES Heavy Equipment Students!
X-ALT-DESC;FMTTYPE=text/html:The 4th Annual TUFF eNUFF 5k Obstacle Course Challenge benefits The Prevention Council of Saratoga County. It is a mud-filled course with obstacles for participants to crawl under\, hurdle over\, wade through\, and work together toward success!&nbsp\; A fun\, muddy adventure for both families and athletes- Mirrors the Prevention Council&#39\;s mission of helping youth navigate life&#39\;s challenges.&nbsp\; Two courses&nbsp\;\; One for kids\; One for teens/adults Course is built by BOCES Heavy Equipment Students!
LOCATION:BOCES Campus - Henning Rd.\, Saratoga Springs
UID:e.2254.6113
SEQUENCE:3
DTSTAMP:20260423T072222Z
URL:https://chamber.saratoga.org/events/details/tuff-enuff-5k-obstacle-challenge-06-06-2015-6113
END:VEVENT

END:VCALENDAR
