BEGIN:VCALENDAR
VERSION:2.0
PRODID:-//ChamberMaster//Event Calendar 2.0//EN
METHOD:PUBLISH
X-PUBLISHED-TTL:P3D
REFRESH-INTERVAL:P3D
CALSCALE:GREGORIAN
BEGIN:VEVENT
DTSTART:20160604T123000Z
DTEND:20160604T150000Z
X-MICROSOFT-CDO-ALLDAYEVENT:FALSE
SUMMARY:TUFF eNUFF 5K Obstacle Challenge
DESCRIPTION:5th Annual TUFF eNUFF Obstacle Course 5k Challenge to benefit The Prevention Council of Saratoga County. Participants will run\, splash\, crawl and splatter along the muddy course! Fun for families and individuals of all ages! The course is built by BOCES Heavy Equipment students!
X-ALT-DESC;FMTTYPE=text/html:5th Annual TUFF eNUFF Obstacle Course 5k Challenge to benefit The Prevention Council of Saratoga County. Participants will run\, splash\, crawl and splatter along the muddy course! Fun for families and individuals of all ages! The course is built by BOCES Heavy Equipment students!
LOCATION:BOCES Campus\, Henning Rd.\, Saratoga Springs\, NY
UID:e.2254.15626
SEQUENCE:3
DTSTAMP:20260421T080349Z
URL:https://chamber.saratoga.org/events/details/tuff-enuff-5k-obstacle-challenge-06-04-2016-15626
END:VEVENT

END:VCALENDAR
