BEGIN:VCALENDAR
VERSION:2.0
PRODID:-//ChamberMaster//Event Calendar 2.0//EN
METHOD:PUBLISH
X-PUBLISHED-TTL:P3D
REFRESH-INTERVAL:P3D
CALSCALE:GREGORIAN
BEGIN:VEVENT
DTSTART:20161104T213000Z
DTEND:20161105T013000Z
X-MICROSOFT-CDO-ALLDAYEVENT:FALSE
SUMMARY:Trivia Night Fundraiser
DESCRIPTION:Bring your friends\, family and/or colleagues for a fun evening of general trivia! Join us for the 3rd annual Trivia Night fundraiser hosted by the Friends of the New York State Military Museum. Dinner will be provided by Panza's Restaurant\, prizes will be available for the top three winners. A cash bar will be available as well. Come indulge in the fun!
X-ALT-DESC;FMTTYPE=text/html:Bring your friends\, family and/or colleagues for a fun evening of general trivia! Join us for the 3rd annual Trivia Night fundraiser hosted by the Friends of the New York State Military Museum. Dinner will be provided by Panza&#39\;s Restaurant\, prizes will be available for the top three winners. A cash bar will be available as well. Come indulge in the fun!
LOCATION:61 Lake Avenue\, Saratoga Springs NY
UID:e.2254.19686
SEQUENCE:3
DTSTAMP:20260420T213238Z
URL:https://chamber.saratoga.org/events/details/trivia-night-fundraiser-19686
END:VEVENT

END:VCALENDAR
