BEGIN:VCALENDAR
VERSION:2.0
PRODID:-//ChamberMaster//Event Calendar 2.0//EN
METHOD:PUBLISH
X-PUBLISHED-TTL:P3D
REFRESH-INTERVAL:P3D
CALSCALE:GREGORIAN
BEGIN:VEVENT
DTSTART:20160614T210000Z
DTEND:20160614T223000Z
X-MICROSOFT-CDO-ALLDAYEVENT:FALSE
SUMMARY:Treatment Options for Hips and Knees
DESCRIPTION:Do you experience chronic hip or knee pain? Please join Saratoga Hospital and distinguished speaker and board-certified Orthopaedic surgeon\, Dr. Lawrence Fein of OrthoNY as he discusses new treatment options for worn out hips and knees.\n\nDr. Fein has specialized in the treatment of knees\, especially repair / reconstruction of ligament injuries and cartilage repair and reconstruction. He has been a leader in utilizing new\, computer technologies and patient specific instrumentation in both partial and total knee replacements.\n\n\n\nRegister online:\n\nhttp://saratogahospital.org/events/orthopaedic/
X-ALT-DESC;FMTTYPE=text/html:<p>Do you experience chronic hip or knee pain? Please join Saratoga Hospital and distinguished speaker and board-certified Orthopaedic surgeon\, Dr. Lawrence Fein of OrthoNY as he discusses new treatment options for worn out hips and knees.</p>\n\n<p>Dr. Fein has specialized in the treatment of knees\, especially repair / reconstruction of ligament injuries and cartilage repair and reconstruction. He has been a leader in utilizing new\, computer technologies and patient specific instrumentation in both partial and total knee replacements.<br />\n<br />\nRegister online:<br />\nhttp://saratogahospital.org/events/orthopaedic/</p>\n
LOCATION:Saratoga Springs Public Library\, Susman Room\, 49 Henry Street\, Saratoga Springs
UID:e.2254.16856
SEQUENCE:3
DTSTAMP:20260421T080612Z
URL:https://chamber.saratoga.org/events/details/treatment-options-for-hips-and-knees-06-14-2016-16856
END:VEVENT

END:VCALENDAR
