BEGIN:VCALENDAR
VERSION:2.0
PRODID:-//ChamberMaster//Event Calendar 2.0//EN
METHOD:PUBLISH
X-PUBLISHED-TTL:P3D
REFRESH-INTERVAL:P3D
CALSCALE:GREGORIAN
BEGIN:VEVENT
DTSTART:20160828T000000Z
DTEND:20160828T030000Z
X-MICROSOFT-CDO-ALLDAYEVENT:FALSE
SUMMARY:Travers Day Party on the Patio
DESCRIPTION:After an exciting (and hopefully lucky!) day at the track\, join us on Saturday\, August 27 from 8 until 11p.m. for our Travers Day Party on the Patio. Dance the night away (or just sit back and relax) with entertainment provided by Raphel Perrault\, whose musical style is great for dancing and easy listening. Cool off with a specialty cocktail\, craft beer\, or wine\, then choose from our wide assortment of freshly prepared\, authentic Italian small plates and entrees. And be sure to save room: you'll want to cap the day's festivities off with one of our delectable scratch-made desserts! Together\, let's celebrate Travers weekend and the end of summer! Call or visit our website to book your table today. We'll see you on the patio!
X-ALT-DESC;FMTTYPE=text/html:After an exciting (and hopefully lucky!) day at the track\, join us on Saturday\, August 27 from 8 until 11p.m. for our Travers Day Party on the Patio. Dance the night away (or just sit back and relax) with entertainment provided by Raphel Perrault\, whose musical style is great for dancing and easy listening. Cool off with a specialty cocktail\, craft beer\, or wine\, then choose from our wide assortment of freshly prepared\, authentic Italian small plates and entrees. And be sure to save room: you&rsquo\;ll want to cap the day&rsquo\;s festivities off with one of our delectable scratch-made desserts! Together\, let&rsquo\;s celebrate Travers weekend and the end of summer! Call or visit our website to book your table today. We&rsquo\;ll see you on the patio!
LOCATION:Campagna Restaurant 2452 State Route 9 Malta\, NY 12020
UID:e.2254.18592
SEQUENCE:3
DTSTAMP:20260421T003451Z
URL:https://chamber.saratoga.org/events/details/travers-day-party-on-the-patio-08-27-2016-18592
END:VEVENT

END:VCALENDAR
