BEGIN:VCALENDAR
VERSION:2.0
PRODID:-//ChamberMaster//Event Calendar 2.0//EN
METHOD:PUBLISH
X-PUBLISHED-TTL:P3D
REFRESH-INTERVAL:P3D
CALSCALE:GREGORIAN
BEGIN:VEVENT
DTSTART:20150604T230000Z
DTEND:20150605T000000Z
X-MICROSOFT-CDO-ALLDAYEVENT:FALSE
SUMMARY:Trans Adirondack Route
DESCRIPTION:In 2010\, Erik Schlimmer hiked from one end of the Adirondack Park to the other\, piecing together snowmobile trails\, abandoned pathways\, roads\, standard hiking trails\, and a few off-trail sections to create a 235 mile hiking route called the Trans Adirondack Route. Schlimmer will talk about the route and show photos of the incredible sights along the way.
X-ALT-DESC;FMTTYPE=text/html:In 2010\, Erik Schlimmer hiked from one end of the Adirondack Park to the other\, piecing together snowmobile trails\, abandoned pathways\, roads\, standard hiking trails\, and a few off-trail sections to create a 235 mile hiking route called the Trans Adirondack Route. Schlimmer will talk about the route and show photos of the incredible sights along the way.
LOCATION:Saratoga Springs Public Library\, 49 Henry Street\, Saratoga Springs\, NY 12866
UID:e.2254.8742
SEQUENCE:3
DTSTAMP:20260423T072046Z
URL:https://chamber.saratoga.org/events/details/trans-adirondack-route-06-04-2015-8742
END:VEVENT

END:VCALENDAR
