BEGIN:VCALENDAR
VERSION:2.0
PRODID:-//ChamberMaster//Event Calendar 2.0//EN
METHOD:PUBLISH
X-PUBLISHED-TTL:P3D
REFRESH-INTERVAL:P3D
CALSCALE:GREGORIAN
BEGIN:VEVENT
DTSTART:20140821T110000Z
DTEND:20140821T180000Z
X-MICROSOFT-CDO-ALLDAYEVENT:FALSE
SUMMARY:Training Grant Open House - 08/21/2014
DESCRIPTION:Looking for Grant Money to Return to College?\n\nAttention\nPlease!!!! \n\nDo you live in Saratoga County?\n\nHave you considered going to school but don’t think you\ncan afford it?\n\nDo you already have plans to attend school in the Fall?\n\nYou\nmight qualify for a training grant!\n\nSaratoga County Department of Employment & Training\nadministers training grants up to $3\,000 for qualified individuals who need to\nupgrade their skills to secure steady employment.\n\nQuick\nfacts:\n\n-must be 18 years or older and live in Saratoga County\n\n-training program must be completed in 2 years or less\n\n-grants are income-based and require a full employment\nassessment\n\n \n\nTRAINING GRANT INTAKE APPOINTMENTS WILL\nBE HELD \n\nALL DAY ON 08/21/2014. RSVP TO RESERVE\nYOUR SPOT BY 08/20/2014.\n\n \n\nFor more information or to reserve your spot\, call 518-884-4170 and mention Training Grants.
X-ALT-DESC;FMTTYPE=text/html:<p>Looking for Grant Money to Return to College?</p><font face="Times New Roman" size="3">\n\n</font><p style="margin: 0in 0in 10pt\;"><b style="mso-bidi-font-weight: normal\;"><span style='line-height: 115%\; font-family: "Tahoma"\,"sans-serif"\; font-size: 20pt\;'>Attention\nPlease!!!! </span></b></p><font face="Times New Roman" size="3">\n\n</font><p style="margin: 0in 0in 10pt\;"><span style='line-height: 115%\; font-family: "Tahoma"\,"sans-serif"\; font-size: 14pt\;'>Do you live in Saratoga County?</span></p><font face="Times New Roman" size="3">\n\n</font><p style="margin: 0in 0in 10pt\;"><span style='line-height: 115%\; font-family: "Tahoma"\,"sans-serif"\; font-size: 14pt\;'>Have you considered going to school but don’t think you\ncan afford it?</span></p><font face="Times New Roman" size="3">\n\n</font><p style="margin: 0in 0in 10pt\;"><span style='line-height: 115%\; font-family: "Tahoma"\,"sans-serif"\; font-size: 14pt\;'>Do you already have plans to attend school in the Fall?</span></p><font face="Times New Roman" size="3">\n\n</font><p style="margin: 0in 0in 10pt\;"><b style="mso-bidi-font-weight: normal\;"><u><span style='line-height: 115%\; font-family: "Tahoma"\,"sans-serif"\; font-size: 18pt\;'>You\nmight qualify for a training grant!</span></u></b></p><font face="Times New Roman" size="3">\n\n</font><p style="margin: 0in 0in 10pt\;"><span style='line-height: 115%\; font-family: "Tahoma"\,"sans-serif"\; font-size: 14pt\;'>Saratoga County Department of Employment &amp\; Training\nadministers training grants up to $3\,000 for qualified individuals who need to\nupgrade their skills to secure steady employment.</span></p><font face="Times New Roman" size="3">\n\n</font><p style="margin: 0in 0in 10pt\;"><b style="mso-bidi-font-weight: normal\;"><span style='line-height: 115%\; font-family: "Tahoma"\,"sans-serif"\; font-size: 14pt\;'>Quick\nfacts:</span></b></p><font face="Times New Roman" size="3">\n\n</font><p style="margin: 0in 0in 10pt\;"><span style='line-height: 115%\; font-family: "Tahoma"\,"sans-serif"\; font-size: 14pt\;'>-must be 18 years or older and live in Saratoga County</span></p><font face="Times New Roman" size="3">\n\n</font><p style="margin: 0in 0in 10pt\;"><span style='line-height: 115%\; font-family: "Tahoma"\,"sans-serif"\; font-size: 14pt\;'>-training program must be completed in 2 years or less</span></p><font face="Times New Roman" size="3">\n\n</font><p style="margin: 0in 0in 10pt\;"><span style='line-height: 115%\; font-family: "Tahoma"\,"sans-serif"\; font-size: 14pt\;'>-grants are income-based and require a full employment\nassessment</span></p><font face="Times New Roman" size="3">\n\n</font><p style="margin: 0in 0in 0pt\;"><b style="mso-bidi-font-weight: normal\;"><span style='line-height: 115%\; font-family: "Tahoma"\,"sans-serif"\; font-size: 14pt\;'>&nbsp\;</span></b></p><font face="Times New Roman" size="3">\n\n</font><p style="margin: 0in 0in 0pt\;"><b style="mso-bidi-font-weight: normal\;"><span style='line-height: 115%\; font-family: "Tahoma"\,"sans-serif"\; font-size: 14pt\;'>TRAINING GRANT INTAKE APPOINTMENTS WILL\nBE HELD </span></b></p><font face="Times New Roman" size="3">\n\n</font><p style="margin: 0in 0in 0pt\;"><b style="mso-bidi-font-weight: normal\;"><span style='line-height: 115%\; font-family: "Tahoma"\,"sans-serif"\; font-size: 14pt\;'>ALL DAY ON 08/21/2014. RSVP TO RESERVE\nYOUR SPOT BY 08/20/2014.</span></b></p><font face="Times New Roman" size="3">\n\n</font><p style="margin: 0in 0in 10pt\;"><span style='line-height: 115%\; font-family: "Tahoma"\,"sans-serif"\; font-size: 14pt\;'>&nbsp\;</span></p><font face="Times New Roman" size="3">\n\n</font><p style="margin: 0in 0in 10pt\;"><span style='line-height: 115%\; font-family: "Tahoma"\,"sans-serif"\; font-size: 14pt\;'>For more information or to reserve your spot\, call <b style="mso-bidi-font-weight: normal\;">518-884-4170</b> and mention <i style="mso-bidi-font-style: normal\;">Training Grants.</i></span></p><font face="Times New Roman" size="3">\n\n</font><p style="margin: 0in 0in 10pt\;"><i style="mso-bidi-font-style: normal\;"><span style='line-height: 115%\; font-family: "Tahoma"\,"sans-serif"\; font-size: 14pt\;'>&nbsp\;</span></i></p><font face="Times New Roman" size="3">\n\n</font><p style="margin: 0in 0in 10pt\;"><i style="mso-bidi-font-style: normal\;"><span style='line-height: 115%\; font-family: "Tahoma"\,"sans-serif"\; font-size: 14pt\;'>&nbsp\;</span></i></p><font face="Times New Roman" size="3">\n\n</font>
LOCATION:Saratoga County One Stop Center
UID:e.2254.3528
SEQUENCE:3
DTSTAMP:20260424T155752Z
URL:https://chamber.saratoga.org/events/details/training-grant-open-house-08-21-2014-08-21-2014-3528
END:VEVENT

END:VCALENDAR
