BEGIN:VCALENDAR
VERSION:2.0
PRODID:-//ChamberMaster//Event Calendar 2.0//EN
METHOD:PUBLISH
X-PUBLISHED-TTL:P3D
REFRESH-INTERVAL:P3D
CALSCALE:GREGORIAN
BEGIN:VEVENT
DTSTART:20140816T140000Z
DTEND:20140816T180000Z
X-MICROSOFT-CDO-ALLDAYEVENT:FALSE
SUMMARY:Tom's Ride of Hope For Hannah's Hope Fund - 08/16/2014
DESCRIPTION:Motorcycle rally followed by Music and lunch for both riders and non-riders!Innaugural 'Tom's Ride of Hope' to benefit Hannah's Hope Fund is taking place at The Mill on Route 9\, Round Lake on Aug. 16th\, 2014.  The event will take place rain or shine and is for both bikers and non-bikers. Motorcycle rider registration begins at 9am. The ride starts at 10am from The Mill\, and concludes at The Mill around 11:30.  Starting at Noon\, the band 'Rat Tail Jimmy' plays until 4pm.  $25 for adults and $10 for children under 18.  Lunch is included. The event is especially moving\, as raising funds for Hannah's Hope Fund was the final wish of Tom Adams\, who passed away from cancer on Aug. 4th\, 2014.  While Tom hoped to attend the event\, he will be there in spirit as we celebrate his life on Aug. 16th.
X-ALT-DESC;FMTTYPE=text/html:<p>Motorcycle rally followed by Music and lunch for both riders and non-riders!</p><p>Innaugural 'Tom's Ride of Hope' to benefit Hannah's Hope Fund is taking place at The Mill on Route 9\, Round Lake on Aug. 16th\, 2014. &nbsp\;The event will take place rain or shine and is for both bikers and non-bikers.&nbsp\;</p><p>Motorcycle rider registration begins at 9am. The ride starts at 10am from The Mill\, and concludes at The Mill around 11:30. &nbsp\;Starting at Noon\, the band 'Rat Tail Jimmy' plays until 4pm. &nbsp\;$25 for adults and $10 for children under 18. &nbsp\;Lunch is included.&nbsp\;</p><p>The event is especially moving\, as raising funds for Hannah's Hope Fund was the final wish of Tom Adams\, who passed away from cancer on Aug. 4th\, 2014. &nbsp\;While Tom hoped to attend the event\, he will be there in spirit as we celebrate his life on Aug. 16th.</p>
LOCATION:The Mill
UID:e.2254.3496
SEQUENCE:3
DTSTAMP:20260424T140510Z
URL:https://chamber.saratoga.org/events/details/tom-s-ride-of-hope-for-hannah-s-hope-fund-08-16-2014-08-16-2014-3496
END:VEVENT

END:VCALENDAR
