BEGIN:VCALENDAR
VERSION:2.0
PRODID:-//ChamberMaster//Event Calendar 2.0//EN
METHOD:PUBLISH
X-PUBLISHED-TTL:P3D
REFRESH-INTERVAL:P3D
CALSCALE:GREGORIAN
BEGIN:VEVENT
DTSTART:20160416T130000Z
DTEND:20160416T200000Z
X-MICROSOFT-CDO-ALLDAYEVENT:FALSE
SUMMARY:Tole Painted Tray with Carol Maher. #866-0416.
DESCRIPTION:The simple message sets a tone of gracious hospitality\, while the colorful design\, painted by your own hand\, means you'll display and use it with pride. Students will transfer the design\, then fill it in using two basic kinds of brush strokes. A coat of fast-drying polyurethane completes the project. Once learned\, this method is easily adapted to other pieces. Instructor provides all materials. No experience necessary.
X-ALT-DESC;FMTTYPE=text/html:<pre>\n<span style="font-size:12pt"><span style="font-family:arial\,sans-serif"><span style="color:black">The simple message sets a tone of gracious hospitality\, while the colorful design\, painted by your own hand\, means you&#39\;ll display and use it with pride. Students will transfer the design\, then fill it in using two basic kinds of brush strokes. A coat of fast-drying polyurethane completes the project. Once learned\, this method is easily adapted to other pieces. Instructor provides all materials. No experience necessary.</span></span></span></pre>\n
LOCATION:Adirondack Folk School 51 Main Street Lake Luzerne\, NY 12846 (518) 696-2400
UID:e.2254.15396
SEQUENCE:3
DTSTAMP:20260421T164031Z
URL:https://chamber.saratoga.org/events/details/tole-painted-tray-with-carol-maher-866-0416-04-16-2016-15396
END:VEVENT

END:VCALENDAR
