BEGIN:VCALENDAR
VERSION:2.0
PRODID:-//ChamberMaster//Event Calendar 2.0//EN
METHOD:PUBLISH
X-PUBLISHED-TTL:P3D
REFRESH-INTERVAL:P3D
CALSCALE:GREGORIAN
BEGIN:VEVENT
DTSTART:20160814T220000Z
DTEND:20160815T030000Z
X-MICROSOFT-CDO-ALLDAYEVENT:FALSE
SUMMARY:Toby Keith - 2016 Country Megaticket
DESCRIPTION:Toby Keith Summer 2016 Tour\n\n\n\nLive Nation proudly announces the 2016 Country Megaticket\, a four-show package featuring the summer's hottest country shows coming to Saratoga Performing Arts Center! Available online only through MEGATICKET.COM\, the Megaticket gives you the opportunity to buy your tickets first for the 2016 lineup of country shows at SPAC.\n\n\n\nwww.livenation.com
X-ALT-DESC;FMTTYPE=text/html:Toby Keith Summer 2016 Tour<br />\n<br />\n<span style="line-height: 20.8px\;">Live Nation proudly announces the 2016&nbsp\;Country&nbsp\;</span>Megaticket<span style="line-height: 20.8px\;">\, a four-show package featuring the summer&rsquo\;s hottest country shows coming to Saratoga Performing Arts Center! Available online only through MEGATICKET.COM\, the&nbsp\;</span>Megaticket<span style="line-height: 20.8px\;">&nbsp\;gives you the opportunity to buy your tickets first for the 2016&nbsp\;lineup of country shows at&nbsp\;</span>SPAC<span style="line-height: 20.8px\;">.</span><br style="line-height: 20.8px\;" />\n<br />\nwww.livenation.com
LOCATION:Saratoga Performing Arts Center 108 Avenue of the Pines Saratoga Springs\, NY 12866
UID:e.2254.14849
SEQUENCE:3
DTSTAMP:20260421T020526Z
URL:https://chamber.saratoga.org/events/details/toby-keith-2016-country-megaticket-08-14-2016-14849
END:VEVENT

END:VCALENDAR
