BEGIN:VCALENDAR
VERSION:2.0
PRODID:-//ChamberMaster//Event Calendar 2.0//EN
METHOD:PUBLISH
X-PUBLISHED-TTL:P3D
REFRESH-INTERVAL:P3D
CALSCALE:GREGORIAN
BEGIN:VEVENT
DTSTART:20160630T213000Z
DTEND:20160630T223000Z
X-MICROSOFT-CDO-ALLDAYEVENT:FALSE
SUMMARY:Tired of looking in the mirror and seeing droopiness\, wrinkling and dark circles around your eyes?
DESCRIPTION:Grab a friend for this complimentary seminar all about eyes. You won't want to miss internationally recognized facial plastic surgeon\,\n\nDr. Edwin Williams explain all the different options to help rejuvenate your eyes.\n\n \n\nOur Face Specialist will teach you the non-surgical and surgical procedures offered to achieves eyes that look fresh\, natural and youthful.\n\n\n\nGet the chance meet Dr. Edwin Williams\, President of AAFPRS\, face-to-face while he discusses:\n\n\n\n*Upper and Lower Eyelid Surgery (Blepharoplasty)\n\n*The Sliver Technique - an in office procedure\n\n*Target the signs of aging with our eye creams\n\n\n\nThis seminar is open to all patients\, friends and family.\n\n\n\nServing light refreshments
X-ALT-DESC;FMTTYPE=text/html:<div style="text-align:center"><span style="color:#0000CD"><span style="font-size:14px"><span style="font-family:tahoma"><strong>Grab a friend for this complimentary seminar all about eyes. You won&#39\;t want to miss internationally recognized facial plastic surgeon\,</strong><br />\n<strong>Dr. Edwin Williams explain all the different options to help rejuvenate your eyes.</strong></span></span></span><br />\n&nbsp\;</div>\n\n<div style="text-align:center"><span style="font-size:14px"><span style="font-family:tahoma">Our Face Specialist will teach you the non-surgical and surgical procedures offered to achieves eyes that look fresh\, natural and youthful.<br />\n<br />\nGet the chance meet Dr. Edwin Williams\, President of AAFPRS\, face-to-face while he discusses:<br />\n<br />\n<span style="color:rgb(0\, 0\, 205)"><span style="background-color:rgb(64\, 224\, 208)">*Upper and Lower Eyelid Surgery (Blepharoplasty)</span><br />\n<span style="background-color:rgb(64\, 224\, 208)">*The Sliver Technique - an in office procedure</span><br />\n<span style="background-color:rgb(64\, 224\, 208)">*Target the signs of aging with our eye creams</span></span><br />\n<br />\nThis seminar is open to all patients\, friends and family.<br />\n<br />\nServing light refreshments</span></span><br />\n&nbsp\;</div>\n
LOCATION:The Williams Center Plastic Surgery Specialists 1072 Troy Schenectady Rd. Latham\, NY 12110
UID:e.2254.16933
SEQUENCE:3
DTSTAMP:20260421T081150Z
URL:https://chamber.saratoga.org/events/details/tired-of-looking-in-the-mirror-and-seeing-droopiness-wrinkling-and-dark-circles-around-your-eyes-06-30-2016-16933
END:VEVENT

END:VCALENDAR
