BEGIN:VCALENDAR
VERSION:2.0
PRODID:-//ChamberMaster//Event Calendar 2.0//EN
METHOD:PUBLISH
X-PUBLISHED-TTL:P3D
REFRESH-INTERVAL:P3D
CALSCALE:GREGORIAN
BEGIN:VEVENT
DTSTART:20161108T140000Z
DTEND:20161109T010000Z
X-MICROSOFT-CDO-ALLDAYEVENT:FALSE
SUMMARY:TIPS Training
DESCRIPTION:*Help staff understand the legal responsibilities involved in the sale of alcohol *Identify fake ID's *Identify intoxicated patrons and deny sales *Possibly qualify for a reduction in liability insurance if 50% of staff are trained
X-ALT-DESC;FMTTYPE=text/html:*Help staff understand the legal responsibilities involved in the sale of alcohol *Identify fake ID&#39\;s *Identify intoxicated patrons and deny sales *Possibly qualify for a reduction in liability insurance if 50% of staff are trained
LOCATION:The Prevention Council 125 High Rock Avenue Saratoga Springs
UID:e.2254.20820
SEQUENCE:3
DTSTAMP:20260420T200455Z
URL:https://chamber.saratoga.org/events/details/tips-training-20820
END:VEVENT

END:VCALENDAR
