BEGIN:VCALENDAR
VERSION:2.0
PRODID:-//ChamberMaster//Event Calendar 2.0//EN
METHOD:PUBLISH
X-PUBLISHED-TTL:P3D
REFRESH-INTERVAL:P3D
CALSCALE:GREGORIAN
BEGIN:VEVENT
DTSTART:20140723T120000Z
DTEND:20140723T180000Z
X-MICROSOFT-CDO-ALLDAYEVENT:FALSE
SUMMARY:Times Union Job Fair - 07/23/2014
DESCRIPTION:Come to the area's Biggest and Best Job Fair!Wednesday\, July 23rd\, 10am-4pm.  Albany Marriott\, 189 Wolf Road Colonie.Largest Fair in the Capital District.  Top Employers\, Ready To Hire!  Bring copies of your Resume and Dress for Success!Meet face-to-face with top employers who are ready to hire YOU!EMPLOYERS:  To reserve your booth\, contact Erin Rosa at 518-454-5493\, erosa@timesunion.com or your TImes Union Representative.
X-ALT-DESC;FMTTYPE=text/html:<p>Come to the area's Biggest and Best Job Fair!</p><p><strong>Wednesday\, July 23rd\, 10am-4pm.&nbsp\; Albany Marriott\, 189 Wolf Road Colonie.</strong></p><p>Largest Fair in the Capital District.&nbsp\; Top Employers\, Ready To Hire!&nbsp\; Bring copies of your Resume and Dress for Success!</p><p><strong>Meet face-to-face with top employers who are ready to hire YOU!</strong></p><p>EMPLOYERS:&nbsp\; To reserve your booth\, contact Erin Rosa at 518-454-5493\, <a href="mailto:erosa@timesunion.com">erosa@timesunion.com</a> or your TImes Union Representative.</p><p></p><p></p>
LOCATION:Albany Marriott
UID:e.2254.3350
SEQUENCE:3
DTSTAMP:20260424T180111Z
URL:https://chamber.saratoga.org/events/details/times-union-job-fair-07-23-2014-07-23-2014-3350
END:VEVENT

END:VCALENDAR
