BEGIN:VCALENDAR
VERSION:2.0
PRODID:-//ChamberMaster//Event Calendar 2.0//EN
METHOD:PUBLISH
X-PUBLISHED-TTL:P3D
REFRESH-INTERVAL:P3D
CALSCALE:GREGORIAN
BEGIN:VEVENT
DTSTART:20150804T140000Z
DTEND:20150804T200000Z
X-MICROSOFT-CDO-ALLDAYEVENT:FALSE
SUMMARY:Thoroughbreds for All--Saratoga
DESCRIPTION:Watch and learn about second careers for racehorses from some of the best in the business\; Michael Matz\, Rosie Naprovik\, Maggie Moss\, Laine Ashker\, Steuart Pittman and more. View beautiful thoroughbreds doing non-racing sports. Learn how you can help in transitioning retired race horses.
X-ALT-DESC;FMTTYPE=text/html:Watch and learn about second careers for racehorses from some of the best in the business\; Michael Matz\, Rosie Naprovik\, Maggie Moss\, Laine Ashker\, Steuart Pittman and more. View beautiful thoroughbreds doing non-racing sports. Learn how you can help in transitioning retired race horses.
LOCATION:Traylor Stables\, 120 Old Post Rd\, Malta\, NY.
UID:e.2254.10178
SEQUENCE:3
DTSTAMP:20260423T023753Z
URL:https://chamber.saratoga.org/events/details/thoroughbreds-for-all-saratoga-08-04-2015-10178
END:VEVENT

END:VCALENDAR
