BEGIN:VCALENDAR
VERSION:2.0
PRODID:-//ChamberMaster//Event Calendar 2.0//EN
METHOD:PUBLISH
X-PUBLISHED-TTL:P3D
REFRESH-INTERVAL:P3D
CALSCALE:GREGORIAN
BEGIN:VEVENT
DTSTART:20150208T010000Z
DTEND:20150208T030000Z
X-MICROSOFT-CDO-ALLDAYEVENT:FALSE
SUMMARY:Thodos Dance Chicago
DESCRIPTION:Thodos Dance Chicago is breathtakingly athletic\, powerfully beautiful\, and performs vibrant choreography. Founder/Director Melissa Thodos is a 1984 Skidmore alum. The company will perform "A Light in the Dark\," based on the lives of Helen Keller and Anne Sullivan\, as well as bring new life to works created by modern dance pioneer Sybil Shearer\, a 1934 Skidmore alum. 8 p.m.-Skidmore College Dance Theater $15 general admission\, $10 for Skidmore community\, $5 for students and senior citizens For information call 518-580-5392
X-ALT-DESC;FMTTYPE=text/html:Thodos Dance Chicago is breathtakingly athletic\, powerfully beautiful\, and performs vibrant choreography. Founder/Director Melissa Thodos is a 1984 Skidmore alum. The company will perform &quot\;A Light in the Dark\,&quot\; based on the lives of Helen Keller and Anne Sullivan\, as well as bring new life to works created by modern dance pioneer Sybil Shearer\, a 1934 Skidmore alum. 8 p.m.-Skidmore College Dance Theater $15 general admission\, $10 for Skidmore community\, $5 for students and senior citizens For information call 518-580-5392
LOCATION:Skidmore College Dance Theater 815 North Broadway Saratoga Springs\, NY 12866
UID:e.2254.4981
SEQUENCE:3
DTSTAMP:20260424T003401Z
URL:https://chamber.saratoga.org/events/details/thodos-dance-chicago-02-07-2015-4981
END:VEVENT

END:VCALENDAR
