BEGIN:VCALENDAR
VERSION:2.0
PRODID:-//ChamberMaster//Event Calendar 2.0//EN
METHOD:PUBLISH
X-PUBLISHED-TTL:P3D
REFRESH-INTERVAL:P3D
CALSCALE:GREGORIAN
BEGIN:VEVENT
DTSTART:20151119T123000Z
DTEND:20151119T143000Z
X-MICROSOFT-CDO-ALLDAYEVENT:FALSE
SUMMARY:Third Thursday "Hard Hat" Breakfast
DESCRIPTION:Join the Saratoga County Chamber of Commerce for a "Hard Hat" Third Thursday Breakfast at Saratoga Casino and Raceway. Join Casino GM\, Tom Wiedmayer\, to learn more about the hotel expansion happening at Saratoga Casino and Raceway. Enjoy breakfast and networking from 7:30 to 8 a.m. and then attendees are encouraged to stick around for a presentation and tour from 8 to 9 a.m. Cost will increase to $25 after the registration deadline.
X-ALT-DESC;FMTTYPE=text/html:Join the Saratoga County Chamber of Commerce for a &ldquo\;Hard Hat&rdquo\; Third Thursday Breakfast at Saratoga Casino and Raceway. Join Casino GM\, Tom Wiedmayer\, to learn more about the hotel expansion happening at Saratoga Casino and Raceway. Enjoy breakfast and networking from 7:30 to 8 a.m. and then attendees are encouraged to stick around for a&nbsp\;presentation and tour from 8 to 9 a.m. Cost will increase to $25 after the registration deadline.
LOCATION:Saratoga Casino and Raceway 342 Jefferson Street Saratoga Springs
UID:e.2254.12763
SEQUENCE:3
DTSTAMP:20260422T101218Z
URL:https://chamber.saratoga.org/events/details/third-thursday-hard-hat-breakfast-11-19-2015-12763
END:VEVENT

END:VCALENDAR
