BEGIN:VCALENDAR
VERSION:2.0
PRODID:-//ChamberMaster//Event Calendar 2.0//EN
METHOD:PUBLISH
X-PUBLISHED-TTL:P3D
REFRESH-INTERVAL:P3D
CALSCALE:GREGORIAN
BEGIN:VEVENT
DTSTART:20141120T123000Z
DTEND:20141120T140000Z
X-MICROSOFT-CDO-ALLDAYEVENT:FALSE
SUMMARY:Third Thursday Breakfast
DESCRIPTION:Hear from four members who serve\, or have served\, in our Military.The Saratoga County Chamber of Commerce will feature a panel of four military members who work diligently to provide services and opportunities to the military personnel. The panel will consist of: Chris Homicz\, former Marine and chair of the Veterans Business Council\; Ray Gagnon\, former Marine and chair of UMAC\; Captain Jim Edwards\, Naval Nuclear Power Training Unit Ballston Spa and Colonel Clouthier\, Commander of the 109th Airlift Wing. They will discuss their current duties\, what each committee and branch of the military handles and how you can help support our military members. Deadline is Wednesday\, November 19. Thank you to The Adirondack Trust Company for sponsoring this event.
X-ALT-DESC;FMTTYPE=text/html:<p>Hear from four members who serve\, or have served\, in our Military.</p><p>The Saratoga County Chamber of Commerce will feature a panel of four military members who work diligently to provide services and opportunities to the military personnel. The panel will consist of: Chris Homicz\, former Marine and chair of the Veterans Business Council\; Ray Gagnon\, former Marine and chair of UMAC\; Captain Jim Edwards\,&nbsp\;Naval Nuclear Power Training Unit Ballston Spa&nbsp\;and Colonel Clouthier\, Commander of the 109<sup>th</sup> Airlift Wing. They will discuss their current duties\, what each committee and branch of the military handles and how you can help support our military members. Deadline is Wednesday\, November 19. Thank you to The Adirondack Trust Company for sponsoring this event.</p>
LOCATION:Saratoga National Golf Club
UID:e.2254.648
SEQUENCE:3
DTSTAMP:20260424T092707Z
URL:https://chamber.saratoga.org/events/details/third-thursday-breakfast-11-20-2014-648
END:VEVENT

END:VCALENDAR
