BEGIN:VCALENDAR
VERSION:2.0
PRODID:-//ChamberMaster//Event Calendar 2.0//EN
METHOD:PUBLISH
X-PUBLISHED-TTL:P3D
REFRESH-INTERVAL:P3D
CALSCALE:GREGORIAN
BEGIN:VEVENT
DTSTART:20141016T103000Z
DTEND:20141016T120000Z
X-MICROSOFT-CDO-ALLDAYEVENT:FALSE
SUMMARY:Third Thursday Breakfast
DESCRIPTION:Hear from five more Start Up Tech Companies!As a follow up to the September breakfast\, the Saratoga County Chamber of Commerce will host five more Start Up Tech companies in October. Continental breakfast & networking will take place in the lobby from 7:30 to 8 a.m.\, with the presentation being in the theater from 8 to 9 a.m. We encourage you to come out and show your support to these new businesses!
X-ALT-DESC;FMTTYPE=text/html:<p>Hear from five more Start Up Tech Companies!</p><p><span style="font-size: 7.5pt\; font-family: 'Verdana'\,'sans-serif'\; color: black\;">As a follow up to the September breakfast\, the Saratoga County Chamber of Commerce will host five more Start Up Tech companies in October. Continental breakfast &amp\; networking will take place in the lobby from 7:30 to 8 a.m.\, with the presentation being in the theater from 8 to 9 a.m. We encourage you to come out and show your support to these new businesses! </span></p>
LOCATION:Bow Tie Cinemas
UID:e.2254.647
SEQUENCE:3
DTSTAMP:20260424T110132Z
URL:https://chamber.saratoga.org/events/details/third-thursday-breakfast-10-16-2014-647
END:VEVENT

END:VCALENDAR
