BEGIN:VCALENDAR
VERSION:2.0
PRODID:-//ChamberMaster//Event Calendar 2.0//EN
METHOD:PUBLISH
X-PUBLISHED-TTL:P3D
REFRESH-INTERVAL:P3D
CALSCALE:GREGORIAN
BEGIN:VEVENT
DTSTART:20150319T113000Z
DTEND:20150319T130000Z
X-MICROSOFT-CDO-ALLDAYEVENT:FALSE
SUMMARY:Third Thursday Breakfast
DESCRIPTION:Leaders from the Regional Alliance for a Creative Economy (RACE)\, a community-selected group of regional leaders led by the Center for Economic Growth and the Community Foundation\, will share information about the great strides that have been made with the Capital Region Creative Economy Project. The Capital Region Creative Economy Project was developed as a way to leverage our region's creative talent\, performing arts venues and products to drive our regional economy through travel and tourism\, workforce development\, and more.\n\nIn November 2014\, RACE released "Leveraging Creative Assets for A Vibrant Future\," a report that detailed results and recommendations from a nine-month-long research study examining the greater Capital Region's creative composition. For more information on the Capital Region Creative Economy Project\, visit www.UpstateCreative.org.\n\n\n\n*Please note that reservations must be canceled 48 hours before the event to avoid any registration fees.
X-ALT-DESC;FMTTYPE=text/html:Leaders from the Regional Alliance for a Creative Economy (RACE)\, a community-selected group of regional leaders led by the Center for Economic Growth and the Community Foundation\, will share information about the great strides that have been made with the Capital Region Creative Economy Project. The Capital Region Creative Economy Project was developed as a way to leverage our region&rsquo\;s creative talent\, performing arts venues and products to drive our regional economy through travel and tourism\, workforce development\, and more.<br />\nIn November 2014\, RACE released &ldquo\;Leveraging Creative Assets for A Vibrant Future\,&rdquo\; a report that detailed results and recommendations from a nine-month-long research study examining the greater Capital Region&rsquo\;s creative composition. For more information on the Capital Region Creative Economy Project\, visit www.UpstateCreative.org.<br />\n<br />\n*Please note that reservations must be canceled&nbsp\;48 hours before the event to avoid any registration fees.
LOCATION:Saratoga National Golf Club 500 Union Avenue Saratoga Springs
UID:e.2254.5020
SEQUENCE:3
DTSTAMP:20260423T212128Z
URL:https://chamber.saratoga.org/events/details/third-thursday-breakfast-03-19-2015-5020
END:VEVENT

END:VCALENDAR
