BEGIN:VCALENDAR
VERSION:2.0
PRODID:-//ChamberMaster//Event Calendar 2.0//EN
METHOD:PUBLISH
X-PUBLISHED-TTL:P3D
REFRESH-INTERVAL:P3D
CALSCALE:GREGORIAN
BEGIN:VEVENT
DTSTART:20150219T123000Z
DTEND:20150219T140000Z
X-MICROSOFT-CDO-ALLDAYEVENT:FALSE
SUMMARY:Third Thursday Breakfast
DESCRIPTION:The Saratoga County Chamber of Commerce is proud to highlight new businesses at the February Third Thursday Breakfast. With new\, innovative ideas\, new business is essential to maintaining a strong local economy. At this breakfast\, you will hear from Sydney Peyser\, Clarity Juice\; Catherine Hover\, Saratoga Paint and Sip Studio\; Kenny Goodwin\, Spin My Ad\; Serge Shishik\, Saratoga Courage and Christian Weber\, Common Roots Brewery.\n\nEach business leader will have five minutes to present their business\, share their start-up story and highlight the products and services that they offer. Cost is $20 before the registration deadline and $25 after. Deadline is Tuesday\, February 17.
X-ALT-DESC;FMTTYPE=text/html:<span style="color: rgb(69\, 69\, 69)\; font-family: Arial\, Helvetica\, sans-serif\; font-size: 13.3333330154419px\; line-height: normal\;">The Saratoga County Chamber of Commerce is proud to highlight new businesses at the February Third Thursday Breakfast. With new\, innovative ideas\, new business is essential to maintaining a strong local economy. At this breakfast\, you will hear from&nbsp\;Sydney Peyser\, Clarity Juice\; Catherine Hover\, Saratoga Paint and Sip Studio\; Kenny Goodwin\, Spin My Ad\; Serge Shishik</span><span style="color: rgb(69\, 69\, 69)\; font-family: Arial\, Helvetica\, sans-serif\; font-size: 13.3333330154419px\; line-height: normal\;">\, Saratoga Courage and Christian Weber\, Common Roots Brewery.<br />\nEach business leader will have five minutes to present their business\, share their start-up story and highlight the products and services that they offer.&nbsp\;Cost is $20 before the registration deadline and $25 after. Deadline is Tuesday\, February 17.</span>
LOCATION:Saratoga Hilton 534 Broadway Saratoga Springs\, NY 12866
UID:e.2254.4876
SEQUENCE:3
DTSTAMP:20260424T003207Z
URL:https://chamber.saratoga.org/events/details/third-thursday-breakfast-02-19-2015-4876
END:VEVENT

END:VCALENDAR
