BEGIN:VCALENDAR
VERSION:2.0
PRODID:-//ChamberMaster//Event Calendar 2.0//EN
METHOD:PUBLISH
X-PUBLISHED-TTL:P3D
REFRESH-INTERVAL:P3D
CALSCALE:GREGORIAN
BEGIN:VEVENT
DTSTART:20160701T140000Z
DTEND:20160701T160000Z
X-MICROSOFT-CDO-ALLDAYEVENT:FALSE
SUMMARY:Theater Residency: Demonstration of Viewpoints method by SITI Company members an
DESCRIPTION:Theater Residency: Demonstration of Viewpoints method by SITI Company members and workshop participants 10 a.m.-Bernhard Theater For more information call 518-580-5596
X-ALT-DESC;FMTTYPE=text/html:Theater Residency: Demonstration of Viewpoints method by SITI Company members and workshop participants 10 a.m.-Bernhard Theater For more information call 518-580-5596
LOCATION:Skidmore College\, Bernhard Theater 815 N Broadway Saratoga Springs\, NY 12866
UID:e.2254.17127
SEQUENCE:3
DTSTAMP:20260421T051212Z
URL:https://chamber.saratoga.org/events/details/theater-residency-demonstration-of-viewpoints-method-by-siti-company-members-an-07-01-2016-17127
END:VEVENT

END:VCALENDAR
