BEGIN:VCALENDAR
VERSION:2.0
PRODID:-//ChamberMaster//Event Calendar 2.0//EN
METHOD:PUBLISH
X-PUBLISHED-TTL:P3D
REFRESH-INTERVAL:P3D
CALSCALE:GREGORIAN
BEGIN:VEVENT
DTSTART:20150703T180000Z
DTEND:20150703T200000Z
X-MICROSOFT-CDO-ALLDAYEVENT:FALSE
SUMMARY:Theater Demonstration
DESCRIPTION:Theater Demonstration SITI Company members and workshop participants demonstrate the Viewpoints method. 2 p.m. - Bernhard Theater For more information call 518-580-5596
X-ALT-DESC;FMTTYPE=text/html:Theater Demonstration SITI Company members and workshop participants demonstrate the Viewpoints method. 2 p.m. - Bernhard Theater For more information call 518-580-5596
LOCATION:Skidmore College\, Bernhard Theater 815 N Broadway Saratoga Springs\, NY 12866
UID:e.2254.9716
SEQUENCE:3
DTSTAMP:20260423T040509Z
URL:https://chamber.saratoga.org/events/details/theater-demonstration-07-03-2015-9716
END:VEVENT

END:VCALENDAR
