BEGIN:VCALENDAR
VERSION:2.0
PRODID:-//ChamberMaster//Event Calendar 2.0//EN
METHOD:PUBLISH
X-PUBLISHED-TTL:P3D
REFRESH-INTERVAL:P3D
CALSCALE:GREGORIAN
BEGIN:VEVENT
DTSTART:20161108T200000Z
DTEND:20161109T140000Z
X-MICROSOFT-CDO-ALLDAYEVENT:FALSE
SUMMARY:The Wesley Community Job Fair
DESCRIPTION:Come join The Wesley Community team! We are holding a two day Job Fair on November 8th\, from 3-5p\, and November 9th\, from 9-11a. The November 8th date will be held in the Wesley Activity Room and November 9th will be held in Woodlawn Commons' Saratoga Room. There will be on-the-spot interviews for positions throughout the organization! Visit http://www.thewesleycommunity.org/careers/ to learn more about the job openings and all the benefits of working at The Wesley Community!
X-ALT-DESC;FMTTYPE=text/html:Come join The Wesley Community team! We are holding a two day Job Fair on November 8th\, from 3-5p\, and November 9th\, from 9-11a. The November 8th date will be held in the Wesley Activity Room and November 9th will be held in Woodlawn Commons&rsquo\; Saratoga Room. There will be on-the-spot interviews for positions throughout the organization! Visit http://www.thewesleycommunity.org/careers/ to learn more about the job openings and all the benefits of working at The Wesley Community!
LOCATION:Wesley Health Care Center 131 Lawrence St. Saratoga Springs\, NY 12866
UID:e.2254.20814
SEQUENCE:3
DTSTAMP:20260420T200916Z
URL:https://chamber.saratoga.org/events/details/the-wesley-community-job-fair-20814
END:VEVENT

END:VCALENDAR
