BEGIN:VCALENDAR
VERSION:2.0
PRODID:-//ChamberMaster//Event Calendar 2.0//EN
METHOD:PUBLISH
X-PUBLISHED-TTL:P3D
REFRESH-INTERVAL:P3D
CALSCALE:GREGORIAN
BEGIN:VEVENT
DTSTART:20150506T113000Z
DTEND:20150507T013000Z
X-MICROSOFT-CDO-ALLDAYEVENT:FALSE
SUMMARY:The Twin Bridges Council of the Saratoga County Chamber of Commerce presents an open forum for local businesses
DESCRIPTION:If you are a business owner\, manager\, nonprofit executive or other community leader doing business in the southern tier of Saratoga County\, please join us Wednesday\, May 6th for an open forum with Supervisors Phil Barrett\, Clifton Park\; Kevin Tollisen\, Halfmoon and Jack Lawler\, Waterford. All three Supervisors will be on hand to discuss the economic climate\, business opportunities and challenges in their respective towns as well as answer questions from the audience.
X-ALT-DESC;FMTTYPE=text/html:<span style="font-size:14px\;">If you are a business owner\, manager\, nonprofit executive or other community leader doing business in the southern tier of Saratoga County\, please join us Wednesday\, May 6<sup>th</sup> for an open forum with Supervisors Phil Barrett\, Clifton Park\; Kevin Tollisen\, Halfmoon and Jack Lawler\, Waterford. All three Supervisors will be on hand to discuss the economic climate\, business opportunities and challenges in their respective towns as well as answer questions from the audience.&nbsp\;</span>
LOCATION:Clifton Park Halfmoon Library 475 Moe Road\, Clifton Park
UID:e.2254.6919
SEQUENCE:3
DTSTAMP:20260423T164746Z
URL:https://chamber.saratoga.org/events/details/the-twin-bridges-council-of-the-saratoga-county-chamber-of-commerce-presents-an-open-forum-for-local-businesses-05-06-2015-6919
END:VEVENT

END:VCALENDAR
