BEGIN:VCALENDAR
VERSION:2.0
PRODID:-//ChamberMaster//Event Calendar 2.0//EN
METHOD:PUBLISH
X-PUBLISHED-TTL:P3D
REFRESH-INTERVAL:P3D
CALSCALE:GREGORIAN
BEGIN:VEVENT
DTSTART;VALUE=DATE:20150706
DTEND;VALUE=DATE:20150725
TRANSP:TRANSPARENT
X-MICROSOFT-CDO-ALLDAYEVENT:TRUE
SUMMARY:The Theatre Institute at Sage's Summer on Stage Summer Camp
DESCRIPTION:This three-week full-day summer camp in the performing arts includes daily classes in acting as well as a variety of theater workshops including dance\, voice\, improv\, stage combat\, and backdrop painting. Summer on Stage emphasizes personal development\, collaboration\, creativity\, commitment and fun. Emerging actors collaborate with a teaching artist to create an original performance piece\, presented on the final afternoon of the program.
X-ALT-DESC;FMTTYPE=text/html:This three-week full-day summer camp in the performing arts includes daily classes in acting as well as a variety of theater&nbsp\;workshops including dance\, voice\, improv\, stage combat\, and backdrop painting. Summer on Stage emphasizes personal development\, collaboration\, creativity\, commitment and fun. Emerging actors collaborate with a teaching artist to create an original performance piece\, presented on the final afternoon of the program.
LOCATION:Schacht Fine Arts Center at the Theatre Institute at Sage 5 Divison Street Troy\, NY
UID:e.2254.5456
SEQUENCE:3
DTSTAMP:20260423T041517Z
URL:https://chamber.saratoga.org/events/details/the-theatre-institute-at-sage-s-summer-on-stage-summer-camp-07-06-2015-5456
END:VEVENT

END:VCALENDAR
