BEGIN:VCALENDAR
VERSION:2.0
PRODID:-//ChamberMaster//Event Calendar 2.0//EN
METHOD:PUBLISH
X-PUBLISHED-TTL:P3D
REFRESH-INTERVAL:P3D
CALSCALE:GREGORIAN
BEGIN:VEVENT
DTSTART;VALUE=DATE:20150706
DTEND;VALUE=DATE:20150718
TRANSP:TRANSPARENT
X-MICROSOFT-CDO-ALLDAYEVENT:TRUE
SUMMARY:The Theatre Institute at Sage's Kids on Stage Summer Camp
DESCRIPTION:Take your favorite stories from page to stage in this two-week full-day camp that encourages creativity\, cooperation\, personal development and fun! Kids with character love this chance to explore everything it takes to put on a show: acting\, singing\, dancing as well as what happens behind the scenes with hands-on crafts to create props\, costumes and scenery. Students use the skills they develop to create an original show shared on the last day of camp.
X-ALT-DESC;FMTTYPE=text/html:Take your favorite stories from page to stage in this two-week full-day camp that encourages creativity\, cooperation\, personal development and fun! Kids with character love this chance to explore everything it takes to put on a show: acting\, singing\, dancing as well as what happens behind the scenes with hands-on crafts to create props\, costumes and scenery. Students use the skills they develop to create an original show shared on the last day of camp.
LOCATION:Schacht Fine Arts Center at the Theatre Institute at Sage 5 Division Street Troy\, NY
UID:e.2254.5455
SEQUENCE:3
DTSTAMP:20260423T041527Z
URL:https://chamber.saratoga.org/events/details/the-theatre-institute-at-sage-s-kids-on-stage-summer-camp-07-06-2015-5455
END:VEVENT

END:VCALENDAR
