BEGIN:VCALENDAR
VERSION:2.0
PRODID:-//ChamberMaster//Event Calendar 2.0//EN
METHOD:PUBLISH
X-PUBLISHED-TTL:P3D
REFRESH-INTERVAL:P3D
CALSCALE:GREGORIAN
BEGIN:VEVENT
DTSTART:20161005T113000Z
DTEND:20161005T190000Z
X-MICROSOFT-CDO-ALLDAYEVENT:FALSE
SUMMARY:The Small Business Albany Showcase
DESCRIPTION:Business Expo\, Social Media Conference & Job Fair Wednesday\, October 5\, 2016 Where: The Holiday Inn Express & Conference Center 400 Old Loudon Road (Rt. 9 & Rt. 9R)\, Latham\, NY 12110 Free Speed Networking: 7:30 am-8:30 am in the Express Room Business\, Social Media and Career Enhancement Seminars Start at 9a Google will be presenting at 10a & 2p in the Teleconference Room Free Admission Limited Exhibitor & Seminar Space Available www.SBAShowcase.com
X-ALT-DESC;FMTTYPE=text/html:Business Expo\, Social Media Conference &amp\; Job Fair Wednesday\, October 5\, 2016 Where: The Holiday Inn Express &amp\; Conference Center 400 Old Loudon Road (Rt. 9 &amp\; Rt. 9R)\, Latham\, NY 12110 Free Speed Networking: 7:30&nbsp\;am-8:30&nbsp\;am in the Express Room Business\, Social Media and Career Enhancement Seminars Start at 9a Google will be presenting at 10a &amp\; 2p in the Teleconference Room Free Admission Limited Exhibitor &amp\; Seminar Space Available www.SBAShowcase.com
LOCATION:Where: The Holiday Inn Express & Conference Center 400 Old Loudon Road (Rt. 9 & Rt. 9R)\, Latham\, NY 12110
UID:e.2254.13088
SEQUENCE:3
DTSTAMP:20260420T215526Z
URL:https://chamber.saratoga.org/events/details/the-small-business-albany-showcase-10-05-2016-13088
END:VEVENT

END:VCALENDAR
