BEGIN:VCALENDAR
VERSION:2.0
PRODID:-//ChamberMaster//Event Calendar 2.0//EN
METHOD:PUBLISH
X-PUBLISHED-TTL:P3D
REFRESH-INTERVAL:P3D
CALSCALE:GREGORIAN
BEGIN:VEVENT
DTSTART:20150920T101500Z
DTEND:20150920T150000Z
X-MICROSOFT-CDO-ALLDAYEVENT:FALSE
SUMMARY:The Saratoga Palio Melanie Merola O'Donnell Memorial Race - 09/20/2015
DESCRIPTION:5k  ">The Saratoga Palio is fast becoming a regional favorite\, thanks to its breathtaking course through the heart of Saratoga Springs and for the great cause it supports. And with a certified 5K run/walk\, a children's run\, and a certified half marathon\, the Palio is as exciting for families as it is for serious runners.\nOver the past few years\, this race has grown to attract participants and spectators from around Saratoga\, the Capital Region\, and across the nation. The event features an inspiring course through scenic Saratoga Springs\, including Saratoga Spa State Park\, Skidmore College\, and many parts of downtown.\nThis event was established to honor the inspiring life of Melanie Merola O'Donnell. Each year a scholarship is given in her name to an outstanding post-graduate student in the field of mental health.\nIn addition to the scholarship fund\, The Melanie Foundation will be making a donation to support The Saratoga WarHorse Foundation. Saratoga WarHorse provides confidential\, peer-to-peer\, equine-based programs to veterans struggling with the effects of post-traumatic stress disorder (PTSD)\, sleepless\, or suicidal thoughts.\nVolunteer opportunities available.
X-ALT-DESC;FMTTYPE=text/html:<p>5k & Half marathon race throughout the City of Saratoga Springs</p><p><span style="line-height: 1.5em\;">The Saratoga Palio is fast becoming a regional favorite\, thanks to its breathtaking course through the heart of Saratoga Springs and for the great cause it supports. And with a certified 5K run/walk\, a children&rsquo\;s run\, and a certified half marathon\, the Palio is as exciting for families as it is for serious runners.</span></p>\n<p>Over the past few years\, this race has grown to attract participants and spectators from around Saratoga\, the Capital Region\, and across the nation. The event features an inspiring course through scenic Saratoga Springs\, including Saratoga Spa State Park\, Skidmore College\, and many parts of downtown.</p>\n<p>This event was established to honor the inspiring life of Melanie Merola O&rsquo\;Donnell. Each year a scholarship is given in her name to an outstanding post-graduate student in the field of mental health.</p>\n<p>In addition to the scholarship fund\, The Melanie Foundation will be making a donation to support The Saratoga WarHorse Foundation. Saratoga WarHorse provides confidential\, peer-to-peer\, equine-based programs to veterans struggling with the effects of post-traumatic stress disorder (PTSD)\, sleepless\, or suicidal thoughts.</p>\n<p><strong><span style="font-size: 11pt\; font-family: 'Calibri'\,'sans-serif'\; mso-fareast-font-family: Calibri\; mso-fareast-theme-font: minor-latin\; mso-bidi-font-family: 'Times New Roman'\; mso-ansi-language: EN-US\; mso-fareast-language: EN-US\; mso-bidi-language: AR-SA\;">Volunteer opportunities available.</span></strong></p>
LOCATION:Start -- Saratoga Springs City Center & Finish: High Rock Park
UID:e.2254.3428
SEQUENCE:3
DTSTAMP:20260423T010019Z
URL:https://chamber.saratoga.org/events/details/the-saratoga-palio-melanie-merola-o-donnell-memorial-race-09-20-2015-09-20-2015-3428
END:VEVENT

END:VCALENDAR
