BEGIN:VCALENDAR
VERSION:2.0
PRODID:-//ChamberMaster//Event Calendar 2.0//EN
METHOD:PUBLISH
X-PUBLISHED-TTL:P3D
REFRESH-INTERVAL:P3D
CALSCALE:GREGORIAN
BEGIN:VEVENT
DTSTART:20160604T230000Z
DTEND:20160605T010000Z
X-MICROSOFT-CDO-ALLDAYEVENT:FALSE
SUMMARY:The Racing City Chorus Diamond Anniversary Show - 60 Years of Harmony
DESCRIPTION:The award-winning Racing City Chorus presents its 60th anniversary show featuring the best of a cappella entertainment in four-part harmony\, including special guest international barbershop quartet champion VOCAL SPECTRUM.
X-ALT-DESC;FMTTYPE=text/html:The award-winning Racing City Chorus presents its 60th anniversary show featuring the best of a cappella entertainment in four-part harmony\, including special guest international barbershop quartet champion VOCAL SPECTRUM.
LOCATION:Maple Avenue Middle School auditorium\, Saratoga Springs
UID:e.2254.13627
SEQUENCE:3
DTSTAMP:20260421T081151Z
URL:https://chamber.saratoga.org/events/details/the-racing-city-chorus-diamond-anniversary-show-60-years-of-harmony-06-04-2016-13627
END:VEVENT

END:VCALENDAR
