BEGIN:VCALENDAR
VERSION:2.0
PRODID:-//ChamberMaster//Event Calendar 2.0//EN
METHOD:PUBLISH
X-PUBLISHED-TTL:P3D
REFRESH-INTERVAL:P3D
CALSCALE:GREGORIAN
BEGIN:VEVENT
DTSTART:20160417T180000Z
DTEND:20160417T193000Z
X-MICROSOFT-CDO-ALLDAYEVENT:FALSE
SUMMARY:The Neave Piano Trio
DESCRIPTION:We welcome the return of the Neave Trio\, Anna Williams\, violin\; Mikhail Veselov\, cello and Toni James\, piano\, an encore for their very well received deBlasiis debut recital last fall. Hailed by critics as absolutely stunning\, an up-and-coming ensemble\, praised for its heart on sleeve- performances and nominated by the Boston Pheonix as the Best of Boston.
X-ALT-DESC;FMTTYPE=text/html:We welcome the return of the Neave Trio\, Anna Williams\, violin\; Mikhail Veselov\, cello and Toni James\, piano\, an encore for their very well received deBlasiis debut recital last fall. Hailed by critics as absolutely stunning\,&nbsp\;an&nbsp\;up-and-coming ensemble\,&nbsp\;praised for its heart on sleeve- performances and nominated by the Boston Pheonix as the Best of Boston.
LOCATION:The Hyde Collection 161 Warren St Glens Falls\, NY 12801
UID:e.2254.15651
SEQUENCE:3
DTSTAMP:20260421T163935Z
URL:https://chamber.saratoga.org/events/details/the-neave-piano-trio-04-17-2016-15651
END:VEVENT

END:VCALENDAR
